Workbook

Sheet G1-SI-FO-12 PLAN ESTRATÉGICO
B2: PLAN ESTRATÉGICO
A4: 1. PERÍODO | G4: 2. PERIODO DEL AVANCE
A5: 3. DIMENSIONES OPERATVAS DEL MIPG | B5: 4. POLÍTICA DE GESTIÓN Y DESEMPEÑO INSTITUCIONAL | C5: 5. OBJETIVO ESTRATÉGICO | D5: 6. ESTRATEGIA | E5: 7. META CUATRIENIO | F5: 8. PROCESO | G5: 9. NOMBRE DEL INDICADOR | H5: 10. FÓRMULA DE CÁLCULO | I5: 11. DEPENDENCIA | J5: 12. META AÑO 1 | K5: 13. META AÑO 2 | L5: 14. META AÑO 3 | M5: 15. META AÑO 4 | N5: 16. AVANCE
A61: 10. Firmas
B65: (Nombre Director General) | F65: (Nombre Jefe OAPLA)
B66: 10.1 Director General USPEC | F66: 10.2 Jefe Oficina Asesora de Planeación y Desarrollo USPEC

Sheet PAUTAS DILIGENCIAMIENTO PE
B5: PLAN ESTRATÉGICO
B7: PAUTAS DILIGENCIAMIENTO
B9: 1 | C9: PERÍODO: | D9: Vigencia en las que se desarrollará el Plan Estratégico
B10: 2 | C10: PERÍODO DE AVANCE: | D10: Período específico en la cual se lleva a cabo el seguimiento al Plan Estratégico. (Año).
B11: 3 | C11: DIMENSIONES OPERATVAS DEL MIPG | D11: Escriba el nombre de la Dimensión Operativa, de acuerdo con el MIPG
B12: 4 | C12: POLÍTICA DE GESTIÓN Y DESEMPEÑO INSTITUCIONAL | D12: Enunciar la Política de Gestión y Desempeño Institucional que se cumplirá desarrollando la Estrategia planteada
B13: 5 | C13: OBJETIVO ESTRATÉGICO | D13: Nombre con que se identifica el Objetivo Estratégico en la Plataforma Estratégica
B14: 6 | C14: ESTRATEGIA: | D14: Describir la estrategia a utilizar para cumplir el Objetivo Estratégico y obtener un resultado, en el período determinado
B15: 7 | C15: META CUATRIENIO | D15: Describe la meta para el final de cuatrienio
B16: 8 | C16: PROCESO | D16: Proceso Institucional al que corresponde la aplicar la estrategia
B17: 9 | C17: NOMBRE DEL INDICADOR | D17: Nombrar el indicador que permite calcular el avance en el cumplimiento de las metas asociadas
B18: 10 | C18: FÓRMULA DE CÁLCULO | D18: Determinar la fórmula de cálculo para el indicador con el que se calcula el avance en el cumplimiento de las metas asociadas
B19: 11 | C19: DEPENDENCIA | D19: Dependencia responsable de desarrollar la estrategia planteada
B20: 12 | C20: META AÑO 1 | D20: Especificar el valor programado a alcazar en la meta para el año 1
... B24: 16 | C24: AVANCE | D24: Porcentaje de avance del indicador
B25: 10 | C25: FIRMAS
B26: 10.1 | C26: DIRECTOR GENERAL | D26: Nombre y firma del Director(a) General de la Unidad
B27: 10.2 | C27: JEFE OFICINA ASESORA DE PLANEACIÓN Y DESARROLLO | D27: Nombre y firma del Jefe(a) de la Oficina Asesora de Planeación y Desarrollo de la Unidad

Sheet PLAN INDICATIVO
C1: PLAN INDICATIVO
A3: 1. PERÍODO | M3: 2. PERÍODO DE SEGUIMIENTO
A4: 3. DIMENSIONES OPERATVAS DEL MIPG | B4: 4. POLÍTICA DE GESTIÓN Y DESEMPEÑO INSTITUCIONAL | C4: 5. OBJETIVO ESTRATEGICO | D4: 6. ESTRATEGIA | E4: 7. PROCESO | F4: 8. DEPENDENCIA | G4: 9. META AÑO 1 | H4: 10. INDICADOR META AÑO 1 | I4: 11. META AÑO 2 | J4: 12. INDICADOR META AÑO 2 | K4: 13. META AÑO 3 | L4: 14. INDICADOR META AÑO 3 | M4: 15. META AÑO 4 | N4: 16. INDICADOR META AÑO 4 | O4: 17. AVANCE DE SEGUIMIENTO
A59: 18. Firmas
B63: (Nombre Director General) | G63: (Nombre Jefe OAPLA)
B64: 18.1 Director General USPEC | G64: 18.2 Jefe Oficina Asesora de Planeación y Desarrollo USPEC

Sheet PAUTAS DILIGENCIAMIENTO PI
B4: PLAN INDICATIVO
B6: PAUTAS DILIGENCIAMIENTO
B8: 1. | C8: PERÍODO: | D8: Vigencias en las que se desarrollará el Plan Indicativo
B9: 2. | C9: PERÍODO DE SEGUIMIENTO: | D9: Vigencia específica para la cual se lleva a cabo el seguimiento al Plan Indicativo. (Año).
B10: 3 | C10: DIMENSIONES OPERATVAS DEL MIPG | D10: Escriba el nombre de la Dimensión Operativa, de acuerdo con el MIPG
B11: 4 | C11: POLÍTICA DE GESTIÓN Y DESEMPEÑO INSTITUCIONAL | D11: Enunciar la Política de Gestión y Desempeño Institucional que se cumplirá desarrollando la Estrategia planteada
B12: 5 | C12: OBJETIVO ESTRATÉGICO: | D12: Nombre con que se identifica el Objetivo Estratégico en la Plataforma Estratégica
B13: 6 | C13: ESTRATEGIA: | D13: Describir la estrategia a utilizar para cumplir el Objetivo Estratégico y obtener un resultado, en un período determinado
B14: 7 | C14: PROCESO | D14: Dependencia responsable de desarrollar la estrategia planteada
B15: 8 | C15: DEPENDENCIA: | D15: Dependencia responsable de desarrollar la estrategia planteada
B16: 9 | C16: META AÑO 1 | D16: Especificar la meta para el año 1
B17: 10 | C17: INDICADOR META AÑO 1 | D17: Definir el indicador que permita mostrar el resultado de la meta planteada para el año 1
B18: 11 | C18: META AÑO 2 | D18: Especificar la meta para el año 2
B19: 12 | C19: INDICADOR META AÑO 2 | D19: Definir el indicador que permita mostrar el resultado de la meta planteada para el año 2
B20: 13 | C20: META AÑO 3 | D20: Especificar la meta para el año 3
B21: 14 | C21: INDICADOR META AÑO 3 | D21: Definir el indicador que permita mostrar el resultado de la meta planteada para el año 3
... B24: 17 | C24: AVANCE DE SEGUIMIENTO | D24: Porcentaje de avance del indicador para la vigencia del Plan Indicativo
B25: 18 | C25: FIRMAS
B26: 18.1 | C26: DIRECTOR GENERAL | D26: Nombre y firma del Director General de la Unidad
B27: 18.2 | C27: JEFE OFICINA ASESORA DE PLANEACIÓN Y DESARROLLO | D27: Nombre y firma del Jefe de la Oficina Asesora de Planeación y Desarrollo de la Unidad

Sheet PLAN DE ACCIÓN
D1: MATRIZ DE SEGUIMIENTO PLAN DE ACCIÓN 2024
F3: 1. VIGENCIA | G3: 2024 | K3: 2. ETAPA:
A4: No. | B4: 4. DIMENSIONES OPERATIVAS DEL MIPG | C4: 5 POLÍTICA DE GESTIÓN Y DESEMPEÑO INSTITUCIONAL | D4: 6. OBJETIVO ESTRATÉGICO | E4: 7. ESTRATEGIA | F4: 8. META | G4: 9. ACTIVIDAD | H4: 10. TIEMPO PROGRAMADO | J4: 11. PROCESO | M4: 12. INDICADOR | O4: 13. AUTOEVALUACIÓN | Y4: 14. AMPLIACIÓN DE LA AUTOEVALUACIÓN | Z4: 15. SEGUIMIENTO OAPLA
H5: FECHA INICIAL | I5: FECHA FINAL | J5: NOMBRE DEL PROCESO | K5: DEPENDENCIA | L5: RESPONSABLE | M5: NOMBRE DEL INDICADOR | N5: FÓRMULA DE CÁLCULO | O5: PRIMER TRIMESTRE | Q5: SEGUNDO TRIMESTRE | S5: TERCER TRIMESTRE | U5: CUARTO TRIMESTRE | W5: % ACUMULADO
O6: PR | P6: EJ | Q6: PR | R6: EJ | S6: PR | T6: EJ | U6: PR | V6: EJ | W6: PR | X6: EJ
A7: 1 | B7: 2. Direccionamiento estratégico | C7: 1. Planeación Institucional | D7: 3. Fortalecer la capacidad institucional y el talento humano por medio del mejoramiento de procesos y el desarrollo de competencias para incrementar la productividad y calidad de los servicios, contribuyendo a la favorabilidad de la imagen de la entidad | E7: 3.1 Fortalecer las capacidades, competencias, habilidades, conocimientos y el bienestar integral del Talento Humano al servicio de la USPEC | F7: 100% en el cumplimiento del Plan Estratégico de Talento Humano en la vigencia | G7: Comprometer el 100% de los recursos asignados para la vigencia, por parte de la Dirección Administrativa y Financiera | H7: 45292 | I7: 45657 | J7: 8. Gestión del Talento Humano | K7: 14. Dirección Administrativa y Financiera | L7: 14. Director Administrativo y Financiero | M7: Porcentaje de avance de los recursos comprometidos | N7: Recursos comprometidos / Recursos asignados * 100 | O7: 0.3 | Q7: 0.6 | S7: 0.1 | U7: 0 | W7: =O7+Q7+S7+U7 -> 1
A8: 2 | B8: 2. Direccionamiento estratégico | C8: 1. Planeación Institucional | D8: 3. Fortalecer la capacidad institucional y el talento humano por medio del mejoramiento de procesos y el desarrollo de competencias para incrementar la productividad y calidad de los servicios, contribuyendo a la favorabilidad de la imagen de la entidad | E8: 3.1 Fortalecer las capacidades, competencias, habilidades, conocimientos y el bienestar integral del Talento Humano al servicio de la USPEC | F8: 100% en el cumplimiento del Plan Estratégico de Talento Humano en la vigencia | G8: Obligar por lo menos el 80% de los recursos comprometidos para la vigencia, por parte de la Dirección Administrativa y Financiera | H8: 45292 | I8: 45657 | J8: 8. Gestión del Talento Humano | K8: 14. Dirección Administrativa y Financiera | L8: 14. Director Administrativo y Financiero | M8: Porcentaje de avance en los recursos obligados | N8: Recursos obligados / Recursos comprometidos * 100 | O8: 0.2 | Q8: 0.4 | S8: 0.3 | U8: 0.1 | W8: =O8+Q8+S8+U8 -> 1
A9: 3 | B9: 2. Direccionamiento estratégico | C9: 1. Planeación Institucional | D9: 3. Fortalecer la capacidad institucional y el talento humano por medio del mejoramiento de procesos y el desarrollo de competencias para incrementar la productividad y calidad de los servicios, contribuyendo a la favorabilidad de la imagen de la entidad | E9: 3.1 Fortalecer las capacidades, competencias, habilidades, conocimientos y el bienestar integral del Talento Humano al servicio de la USPEC | F9: 100% en el cumplimiento del Plan Estratégico de Talento Humano en la vigencia | G9: Obligar el 100% de los recursos que fueron constituidos como reserva presupuestal en la vigencia anterior, por parte de la Dirección Administrativa y Financiera | H9: 45292 | I9: 45657 | J9: 8. Gestión del Talento Humano | K9: 14. Dirección Administrativa y Financiera | L9: 14. Director Administrativo y Financiero | M9: Porcentaje de avance de los recursos obligados, constituidos como reserva en la vigencia anterior | N9: Recursos obligados / Recursos comprometidos constituidos como reserva en la vigencia anterior *100 | O9: 0.4 | Q9: 0.6 | S9: 0 | U9: 0 | W9: =O9+Q9+S9+U9 -> 1
A10: 4 | B10: 2. Direccionamiento estratégico | C10: 1. Planeación Institucional | D10: 3. Fortalecer la capacidad institucional y el talento humano por medio del mejoramiento de procesos y el desarrollo de competencias para incrementar la productividad y calidad de los servicios, contribuyendo a la favorabilidad de la imagen de la entidad | E10: 3.1 Fortalecer las capacidades, competencias, habilidades, conocimientos y el bienestar integral del Talento Humano al servicio de la USPEC | F10: 100% en el cumplimiento del Plan Estratégico de Talento Humano en la vigencia | G10: Formular e implementar el Plan Institucional de Capacitación de la vigencia | H10: 45292 | I10: 45657 | J10: 8. Gestión del Talento Humano | K10: 17. Subdirección Administrativa | L10: 17. Subdirector Administrativo | M10: Porcentaje de avance en la formulación e implementación del Plan Institucional de Capacitación de la vigencia | N10: % de avance en la ejecución del Plan Institucional de capacitación / Avance programado en la ejecución del Plan Institucional de capacitación | O10: 0.25 | Q10: 0.25 | S10: 0.25 | U10: 0.25 | W10: =O10+Q10+S10+U10 -> 1
A17: 5 | B17: 2. Direccionamiento estratégico | C17: 1. Planeación Institucional | D17: 3. Fortalecer la capacidad institucional y el talento humano por medio del mejoramiento de procesos y el desarrollo de competencias para incrementar la productividad y calidad de los servicios, contribuyendo a la favorabilidad de la imagen de la entidad | E17: 3.1 Fortalecer las capacidades, competencias, habilidades, conocimientos y el bienestar integral del Talento Humano al servicio de la USPEC | F17: 100% en el cumplimiento del Plan Estratégico de Talento Humano en la vigencia | G17: Formular e implementar el Plan de Bienestar e Incentivos Institucionales de la vigencia | H17: 45292 | I17: 45657 | J17: 8. Gestión del Talento Humano | K17: 17. Subdirección Administrativa | L17: 17. Subdirector Administrativo | M17: Porcentaje de avance en la formulación e implementación del Plan de Bienestar e Incentivos de la vigencia | N17: % de avance en la ejecución del Plan de Bienestar e Incentivos / Avance programado en la ejecución del Plan de Bienestar e Incentivos | O17: 0.25 | Q17: 0.25 | S17: 0.25 | U17: 0.25 | W17: =O17+Q17+S17+U17 -> 1
A25: 6 | B25: 2. Direccionamiento estratégico | C25: 1. Planeación Institucional | D25: 3. Fortalecer la capacidad institucional y el talento humano por medio del mejoramiento de procesos y el desarrollo de competencias para incrementar la productividad y calidad de los servicios, contribuyendo a la favorabilidad de la imagen de la entidad | E25: 3.1 Fortalecer las capacidades, competencias, habilidades, conocimientos y el bienestar integral del Talento Humano al servicio de la USPEC | F25: 100% en el cumplimiento del Plan Estratégico de Talento Humano en la vigencia | G25: Formular e implementar el Plan Anual de Vacantes de la vigencia | H25: 45292 | I25: 45657 | J25: 8. Gestión del Talento Humano | K25: 17. Subdirección Administrativa | L25: 17. Subdirector Administrativo | M25: Porcentaje de avance en la formulación e implementación del Plan Anual de Vacantes de la vigencia | N25: % de avance en la ejecución del Plan anual de vacantes / Avance programado en la ejecución del Plan anual de vacantes | O25: 0.25 | Q25: 0.25 | S25: 0.25 | U25: 0.25 | W25: =O25+Q25+S25+U25 -> 1
A29: 7 | B29: 2. Direccionamiento estratégico | C29: 1. Planeación Institucional | D29: 3. Fortalecer la capacidad institucional y el talento humano por medio del mejoramiento de procesos y el desarrollo de competencias para incrementar la productividad y calidad de los servicios, contribuyendo a la favorabilidad de la imagen de la entidad | E29: 3.1 Fortalecer las capacidades, competencias, habilidades, conocimientos y el bienestar integral del Talento Humano al servicio de la USPEC | F29: 100% en el cumplimiento del Plan Estratégico de Talento Humano en la vigencia | G29: Formular e implementar el Plan de Previsión de Recursos Humanos de la vigencia | H29: 45292 | I29: 45657 | J29: 8. Gestión del Talento Humano | K29: 17. Subdirección Administrativa | L29: 17. Subdirector Administrativo | M29: Porcentaje de avance en la formulación e implementación del Plan de Previsión de Recursos Humanos de la vigencia | N29: % de avance en la ejecución del Plan de Previsión de Recursos Humanos / Avance programado en la ejecución del Plan de Previsión de Recursos Humanos | O29: 0.25 | Q29: 0.25 | S29: 0.25 | U29: 0.25 | W29: =O29+Q29+S29+U29 -> 1
A32: 8 | B32: 2. Direccionamiento estratégico | C32: 1. Planeación Institucional | D32: 3. Fortalecer la capacidad institucional y el talento humano por medio del mejoramiento de procesos y el desarrollo de competencias para incrementar la productividad y calidad de los servicios, contribuyendo a la favorabilidad de la imagen de la entidad | E32: 3.1 Fortalecer las capacidades, competencias, habilidades, conocimientos y el bienestar integral del Talento Humano al servicio de la USPEC | F32: 100% en el cumplimiento del Plan Estratégico de Talento Humano en la vigencia | G32: Formular e implementar el Plan de Seguridad y Salud en el Trabajo de la vigencia | H32: 45292 | I32: 45657 | J32: 8. Gestión del Talento Humano | K32: 17. Subdirección Administrativa | L32: 17. Subdirector Administrativo | M32: Porcentaje de avance en la formulación e implementación del Plan de Seguridad y Salud en el Trabajo de la vigencia | N32: % de avance en la ejecución del Plan de Seguridad y Salud en el Trabajo / Avance programado en la ejecución del Plan de Seguridad y Salud en el Trabajo | O32: 0.25 | Q32: 0.25 | S32: 0.25 | U32: 0.25 | W32: =O32+Q32+S32+U32 -> 1
A41: 9 | B41: 5. Información y Comunicación | C41: 10. Gestión documental | D41: 4. Gestionar la información y el conocimiento para la toma de decisiones con calidad, oportunidad y seguridad | E41: 4.5 Implementar un Plan Institucional de Archivos - PINAR | F41: 100% de cumplimiento en el Plan Institucional de Archivos - PINAR para la vigencia | G41: Formular e implementar el Plan Institucional de archivos PINAR de la vigencia | H41: 45292 | I41: 45657 | J41: 11. Gestión Documental | K41: 14. Dirección Administrativa y Financiera | L41: 14. Director Administrativo y Financiero | M41: Porcentaje de avance en la formulación e implementación del Plan Institucional de archivos PINAR de la vigencia | N41: % de avance en la ejecución del Plan Institucional de archivos PINAR / Avance programado en la ejecución del Plan Institucional de archivos PINAR | O41: 0.25 | Q41: 0.25 | S41: 0.25 | U41: 0.25 | W41: =O41+Q41+S41+U41 -> 1
A45: 10 | B45: 2. Direccionamiento estratégico | C45: 1. Planeación Institucional | D45: 3. Fortalecer la capacidad institucional y el talento humano por medio del mejoramiento de procesos y el desarrollo de competencias para incrementar la productividad y calidad de los servicios, contribuyendo a la favorabilidad de la imagen de la entidad | E45: 3.1 Fortalecer las capacidades, competencias, habilidades, conocimientos y el bienestar integral del Talento Humano al servicio de la USPEC | F45: 100% en el cumplimiento del Plan Estratégico de Talento Humano en la vigencia | G45: Formular e implementar el Plan Estratégico de Talento Humano de la vigencia | H45: 45292 | I45: 45322 | J45: 8. Gestión del Talento Humano | K45: 17. Subdirección Administrativa | L45: 17. Subdirector Administrativo | M45: Porcentaje de avance en la formulación e implementación del Plan Estratégico de Talento Humano de la vigencia | N45: % de avance en la ejecución del Plan Estratégico de Talento Humano / Avance programado en la ejecución del Plan Estratégico de Talento Humano | O45: 0.25 | Q45: 0.25 | S45: 0.25 | U45: 0.25 | W45: =O45+Q46+S46+U46 -> 0.25
A47: 11 | B47: 2. Direccionamiento estratégico | C47: 1. Planeación Institucional | D47: 3. Fortalecer la capacidad institucional y el talento humano por medio del mejoramiento de procesos y el desarrollo de competencias para incrementar la productividad y calidad de los servicios, contribuyendo a la favorabilidad de la imagen de la entidad | E47: 3.3 Implementar el Plan Institucional de Gestión Ambiental - PIGA | F47: 100% en el cumplimiento del Plan Institucional de Gestión Ambiental – PIGA para la vigencia | G47: Formular e implementar el Plan Institucional de Gestión Ambiental - PIGA para la vigencia | H47: 45292 | I47: 45322 | J47: 8. Gestión del Talento Humano | K47: 17. Subdirección Administrativa | L47: 17. Subdirector Administrativo | M47: Porcentaje de avance en la formulación e implementación del Plan Institucional de Gestión Ambiental - PIGA, para la vigencia | N47: % de avance en la ejecución del Plan Institucional de Gestión Ambiental PIGA / Avance programado en la ejecución del Plan Institucional de Gestión Ambiental PIGA | O47: 0.25 | Q47: 0.25 | S47: 0.25 | U47: 0.25 | W47: =O47+Q48+S48+U48 -> 0.25
A49: 12 | B49: 2. Direccionamiento estratégico | C49: 1. Planeación Institucional | D49: 3. Fortalecer la capacidad institucional y el talento humano por medio del mejoramiento de procesos y el desarrollo de competencias para incrementar la productividad y calidad de los servicios, contribuyendo a la favorabilidad de la imagen de la entidad | E49: 3.1 Fortalecer las capacidades, competencias, habilidades, conocimientos y el bienestar integral del Talento Humano al servicio de la USPEC | F49: 100% en el cumplimiento del Plan Estratégico de Talento Humano en la vigencia | G49: Hacer seguimiento a la implementación de la Política de Teletrabajo en la USPEC | H49: 45292 | I49: 45322 | J49: 8. Gestión del Talento Humano | K49: 17. Subdirección Administrativa | L49: 17. Subdirector Administrativo | M49: Porcentaje de avance en la implementación de la Política de Teletrabajo en la USPEC | N49: % de avance en la ejecución de la Política de Teletrabajo / Avance programado en la ejecución de la Política de Teletrabajo | O49: 0.25 | Q49: 0.25 | S49: 0.25 | U49: 0.25 | W49: =O49+Q50+S50+U50 -> 0.25
A51: 13 | B51: 2. Direccionamiento estratégico | C51: 1. Planeación Institucional | D51: 1. Construir, ampliar, Fortalecer y conservar la infraestructura física penitenciaria y carcelaria con un enfoque humano, sostenible y orientado a al bienestar de la población privada de la libertad a cargo del INPEC | E51: 1.1 Ampliación cupos en infraestructura atendiendo requisitos y condiciones de calidad | F51: 2500 cupos en ampliación de infraestructura con avance de proyecto del 100% 8054 cupos nuevos en infraestructura con avance de proyecto del 100% | G51: Comprometer el 100% de los recursos asignados para la vigencia, por parte de la Subdirección de Seguimiento a la Infraestructura | H51: 45292 | I51: 45657 | J51: 5. Gestión de la Infraestructura | K51: 7. Subdirección de Seguimiento a la Infraestructura | L51: 4. Subdirector de Seguimiento a la Infraestructura | M51: Porcentaje de avance de los recursos comprometidos | N51: Recursos comprometidos / Recursos asignados * 100 | O51: 0.3 | Q51: 0.6 | S51: 0.1 | U51: 0 | W51: =O51+Q51+S51+U51 -> 1
A52: 14 | B52: 2. Direccionamiento estratégico | C52: 1. Planeación Institucional | D52: 1. Construir, ampliar, Fortalecer y conservar la infraestructura física penitenciaria y carcelaria con un enfoque humano, sostenible y orientado a al bienestar de la población privada de la libertad a cargo del INPEC | E52: 1.1 Ampliación cupos en infraestructura atendiendo requisitos y condiciones de calidad | F52: 2500 cupos en ampliación de infraestructura con avance de proyecto del 100% 8054 cupos nuevos en infraestructura con avance de proyecto del 100% | G52: Obligar por lo menos el 80% de los recursos comprometidos para la vigencia, por parte de la Subdirección de Seguimiento a la Infraestructura | H52: 45292 | I52: 45657 | J52: 5. Gestión de la Infraestructura | K52: 7. Subdirección de Seguimiento a la Infraestructura | L52: 4. Subdirector de Seguimiento a la Infraestructura | M52: Porcentaje de avance en los recursos obligados | N52: Recursos obligados / Recursos comprometidos * 100 | O52: 0.2 | Q52: 0.4 | S52: 0.3 | U52: 0.1 | W52: =O52+Q52+S52+U52 -> 1
A53: 15 | B53: 2. Direccionamiento estratégico | C53: 1. Planeación Institucional | D53: 1. Construir, ampliar, Fortalecer y conservar la infraestructura física penitenciaria y carcelaria con un enfoque humano, sostenible y orientado a al bienestar de la población privada de la libertad a cargo del INPEC | E53: 1.1 Ampliación cupos en infraestructura atendiendo requisitos y condiciones de calidad | F53: 2500 cupos en ampliación de infraestructura con avance de proyecto del 100% 8054 cupos nuevos en infraestructura con avance de proyecto del 100% | G53: Obligar el 100% de los recursos que fueron constituidos como reserva presupuestal en la vigencia anterior, por parte de la Subdirección de Seguimiento a la Infraestructura | H53: 45292 | I53: 45657 | J53: 5. Gestión de la Infraestructura | K53: 7. Subdirección de Seguimiento a la Infraestructura | L53: 4. Subdirector de Seguimiento a la Infraestructura | M53: Porcentaje de avance de los recursos obligados, constituidos como reserva en la vigencia anterior | N53: Recursos obligados / Recursos comprometidos constituidos como reserva en la vigencia anterior *100 | O53: 0.4 | Q53: 0.6 | S53: 0 | U53: 0 | W53: =O53+Q53+S53+U53 -> 1
A54: 16 | B54: 2. Direccionamiento estratégico | C54: 1. Planeación Institucional | D54: 1. Construir, ampliar, Fortalecer y conservar la infraestructura física penitenciaria y carcelaria con un enfoque humano, sostenible y orientado a al bienestar de la población privada de la libertad a cargo del INPEC | E54: 1.1 Ampliación cupos en infraestructura atendiendo requisitos y condiciones de calidad | F54: 2500 cupos en ampliación de infraestructura con avance de proyecto del 100% | G54: Elaborar los documentos de lineamientos de diseño, operación y dotación para infraestructura de los establecimientos penitenciarios, tomando como referencia la Norma NTC 4595 (2014). | H54: 45292 | I54: 45657 | J54: 5. Gestión de la Infraestructura | K54: 7. Subdirección de Seguimiento a la Infraestructura | L54: 4. Subdirector de Seguimiento a la Infraestructura | M54: Porcentaje de avance en la elaboración de lineamientos de diseño, operación y dotación para infraestructura de los establecimientos penitenciarios | N54: Porcentaje de avance ejecutado en la elaboración de documentos de lineamientos de diseño / Porcentaje programado en la elaboración de documentos de lineamientos de diseño | O54: 0.3 | Q54: 0.2 | S54: 0.5 | U54: 0 | W54: =O54+Q54+S54+U54 -> 1
W55: =O55+Q55+S55+U55 -> 0
W56: =O56+Q56+S56+U56 -> 0
A57: 17 | B57: 2. Direccionamiento estratégico | C57: 1. Planeación Institucional | D57: 1. Construir, ampliar, Fortalecer y conservar la infraestructura física penitenciaria y carcelaria con un enfoque humano, sostenible y orientado a al bienestar de la población privada de la libertad a cargo del INPEC | E57: 1.1 Ampliación cupos en infraestructura atendiendo requisitos y condiciones de calidad | F57: 2500 cupos en ampliación de infraestructura con avance de proyecto del 100% | G57: Realizar seguimiento a la ejecución de los proyectos de acuerdo a los avances programados para la vigencia 2024: RM Barranquilla - 104 cupos-100% RM Cartagena - 114 cupos-100% Pabellón Calarcá - 304 cupos-30% Buga-720 cupos-85% RM Acacias - 228 cupos- 10% Pabellón 4 Bellavista - 514 cupos-30% | H57: 45292 | I57: 45657 | J57: 5. Gestión de la Infraestructura | K57: 7. Subdirección de Seguimiento a la Infraestructura | L57: 4. Subdirector de Seguimiento a la Infraestructura | M57: % de avance de ejecución de los proyectos de: RM Barranquilla - 104 cupos-100% RM Cartagena - 114 cupos-100% Pabellón Calarcá - 304 cupos-30% Buga-720 cupos-85% RM Acacias - 228 cupos- 10% Pabellón 4 Bellavista - 514 cupos-30% | N57: Σ de avance de ejecución de los proyectos de (Barranquilla+Cartagena+Calarcá+Buga+Acacias+ P. 4 Bellavista)/3,55 | O57: 0.1 | Q57: 0.2 | S57: 0.45 | U57: 0.25 | W57: =O57+Q57+S57+U57 -> 1
A58: 18 | B58: 2. Direccionamiento estratégico | C58: 1. Planeación Institucional | D58: 1. Construir, ampliar, Fortalecer y conservar la infraestructura física penitenciaria y carcelaria con un enfoque humano, sostenible y orientado a al bienestar de la población privada de la libertad a cargo del INPEC | E58: 1.1 Ampliación cupos en infraestructura atendiendo requisitos y condiciones de calidad | F58: 2500 cupos en ampliación de infraestructura con avance de proyecto del 100% | G58: Suscribir contrato para proyecto RM Acacias | H58: 45292 | I58: 45657 | J58: 5. Gestión de la Infraestructura | K58: 7. Subdirección de Seguimiento a la Infraestructura | L58: 4. Subdirector de Seguimiento a la Infraestructura | M58: Suscripción Contrato para el proyecto RM Acacias | N58: Contrato suscrito | O58: 0 | Q58: 0 | S58: 0 | U58: 1 | W58: =O58+Q58+S58+U58 -> 1
A59: 19 | B59: 2. Direccionamiento estratégico | C59: 1. Planeación Institucional | D59: 1. Construir, ampliar, Fortalecer y conservar la infraestructura física penitenciaria y carcelaria con un enfoque humano, sostenible y orientado a al bienestar de la población privada de la libertad a cargo del INPEC | E59: 1.1 Ampliación cupos en infraestructura atendiendo requisitos y condiciones de calidad | F59: 2500 cupos en ampliación de infraestructura con avance de proyecto del 100% | G59: Realizar entrega de los proyectos obras complementarias Itagüí, Espinal y Barranquilla | H59: 45292 | I59: 45657 | J59: 5. Gestión de la Infraestructura | K59: 7. Subdirección de Seguimiento a la Infraestructura | L59: 4. Subdirector de Seguimiento a la Infraestructura | M59: Porcentaje promedio de avance acumulado en obras complementarias en Itagüí, Espinal y Barranquilla | N59: Σ de avance de ejecución de los proyectos de Itagüí, Espinal y Barranquilla/3 | O59: 0.1 | Q59: 0.2 | S59: 0.45 | U59: 0.25 | W59: =O59+Q59+S59+U59 -> 1
A60: 20 | B60: 2. Direccionamiento estratégico | C60: 1. Planeación Institucional | D60: 1. Construir, ampliar, Fortalecer y conservar la infraestructura física penitenciaria y carcelaria con un enfoque humano, sostenible y orientado a al bienestar de la población privada de la libertad a cargo del INPEC | E60: 1.1 Ampliación cupos en infraestructura atendiendo requisitos y condiciones de calidad | F60: 2500 cupos en ampliación de infraestructura con avance de proyecto del 100% | G60: Realizar seguimiento a la ejecución de los proyectos de alojamientos de guardia de los establecimientos de EPMSC Girón y el EPMSC Ipiales | H60: 45292 | I60: 45657 | J60: 5. Gestión de la Infraestructura | K60: 7. Subdirección de Seguimiento a la Infraestructura | L60: 4. Subdirector de Seguimiento a la Infraestructura | M60: Porcentaje promedio de avance acumulado en obras de alojamiento de Guardia en Girón e Ipiales | N60: Σ % de avance en los proyectos EPMSC Girón y el EPMSC Ipiales / 2 | O60: 0.1 | Q60: 0.2 | S60: 0.45 | U60: 0.25 | W60: =O60+Q60+S60+U60 -> 1
A61: 21 | B61: 2. Direccionamiento estratégico | C61: 1. Planeación Institucional | D61: 1. Construir, ampliar, Fortalecer y conservar la infraestructura física penitenciaria y carcelaria con un enfoque humano, sostenible y orientado a al bienestar de la población privada de la libertad a cargo del INPEC | E61: 1.2 Construir cupos nuevos atendiendo requisitos y condiciones de calidad | F61: 8054 cupos nuevos en infraestructura con avance de proyecto del 100% | G61: Realizar seguimiento de acuerdo a la programación de obra para la vigencia 2024: Nuevo ERON Pereira Fase 1 (1519 cupos) - 100% Nuevo ERON Riohacha (1722) - 70% Nuevo ERON Sabanas de San Ángel (1974).40% Nuevo ERON Silvia (500) _ 40% Nuevo ERON Barrancabermeja (1512) - 20% Nuevo ERON Pereira Fase 2 - 10% | H61: 45292 | I61: 45657 | J61: 5. Gestión de la Infraestructura | K61: 7. Subdirección de Seguimiento a la Infraestructura | L61: 4. Subdirector de Seguimiento a la Infraestructura | M61: Porcentaje promedio de avance de los proyectos de: Nuevo ERON Pereira Fase 1 (1519 cupos) - 100% Nuevo ERON Riohacha (1722) - 70% Nuevo ERON Sabanas de San Ángel (1974).40% Nuevo ERON Silvia (500) _ 40% Nuevo ERON Barrancabermeja (1512) - 20% Nuevo ERON Pereira Fase 2 - 10% | N61: Σ de avance de ejecución de los proyectos de (Pereira F. 1 + Rioacha + Sabanas de S.A + Silvia + Barrancabermeja + Pereira F. 2)/2,8 | O61: 0.1 | Q61: 0.2 | S61: 0.45 | U61: 0.25 | W61: =O61+Q61+S61+U61 -> 1
A62: 23 | B62: 2. Direccionamiento estratégico | C62: 1. Planeación Institucional | D62: 2. Suministrar los bienes y servicios en condiciones de calidad, oportunidad y eficiencia a las personas privadas de la libertad a cargo del INPEC | E62: 2.1 Prestar el servicio de alimentación a la población privada de la libertad con criterios de calidad y eficiencia | F62: Proveer la alimentación a internos mediante el sistema de ración conformado por cuatro tiempos (desayuno, almuerzo, cena refrigerio nocturno), con promoción de hábitos alimentarios saludables, suministrando raciones para población en condiciones especiales, raciones para gestantes y lactantes. Un modelo de atención integral en salud que cuente con cobertura, oportunidad y eficiencia para la PPL a cargo del INPEC. | G62: Comprometer el 100% de los recursos asignados para la vigencia, por parte de la Subdirección de Suministro de Servicios | H62: 45292 | I62: 45657 | J62: 7. Gestión de Suministro de Bienes y Prestación de Servicios | K62: 11. Subdirección de Suministro de Servicios | L62: 8. Subdirector de Suministro de Servicios | M62: Porcentaje de avance de los recursos comprometidos | N62: Recursos comprometidos / Recursos asignados * 100 | O62: 0.3 | Q62: 0.6 | S62: 0.1 | U62: 0 | W62: =O62+Q62+S62+U62 -> 1
A63: 24 | B63: 2. Direccionamiento estratégico | C63: 1. Planeación Institucional | D63: 2. Suministrar los bienes y servicios en condiciones de calidad, oportunidad y eficiencia a las personas privadas de la libertad a cargo del INPEC | E63: 2.1 Prestar el servicio de alimentación a la población privada de la libertad con criterios de calidad y eficiencia | F63: Proveer la alimentación a internos mediante el sistema de ración conformado por cuatro tiempos (desayuno, almuerzo, cena refrigerio nocturno), con promoción de hábitos alimentarios saludables, suministrando raciones para población en condiciones especiales, raciones para gestantes y lactantes. Un modelo de atención integral en salud que cuente con cobertura, oportunidad y eficiencia para la PPL a cargo del INPEC. | G63: Obligar por lo menos el 80% de los recursos comprometidos para la vigencia, por parte de la Subdirección de Suministro de Servicios | H63: 45292 | I63: 45657 | J63: 7. Gestión de Suministro de Bienes y Prestación de Servicios | K63: 11. Subdirección de Suministro de Servicios | L63: 8. Subdirector de Suministro de Servicios | M63: Porcentaje de avance en los recursos obligados | N63: Recursos obligados / Recursos comprometidos * 100 | O63: 0.2 | Q63: 0.4 | S63: 0.3 | U63: 0.1 | W63: =O63+Q63+S63+U63 -> 1
A64: 25 | B64: 2. Direccionamiento estratégico | C64: 1. Planeación Institucional | D64: 2. Suministrar los bienes y servicios en condiciones de calidad, oportunidad y eficiencia a las personas privadas de la libertad a cargo del INPEC | E64: 2.1 Prestar el servicio de alimentación a la población privada de la libertad con criterios de calidad y eficiencia | F64: Proveer la alimentación a internos mediante el sistema de ración conformado por cuatro tiempos (desayuno, almuerzo, cena refrigerio nocturno), con promoción de hábitos alimentarios saludables, suministrando raciones para población en condiciones especiales, raciones para gestantes y lactantes. Un modelo de atención integral en salud que cuente con cobertura, oportunidad y eficiencia para la PPL a cargo del INPEC. | G64: Obligar el 100% de los recursos que fueron constituidos como reserva presupuestal en la vigencia anterior, por parte de la Subdirección de Suministro de Servicios | H64: 45292 | I64: 45657 | J64: 7. Gestión de Suministro de Bienes y Prestación de Servicios | K64: 11. Subdirección de Suministro de Servicios | L64: 8. Subdirector de Suministro de Servicios | M64: Porcentaje de avance de los recursos obligados, constituidos como reserva en la vigencia anterior | N64: Recursos obligados / Recursos comprometidos constituidos como reserva en la vigencia anterior *100 | O64: 0.4 | Q64: 0.6 | S64: 0 | U64: 0 | W64: =O64+Q64+S64+U64 -> 1
A65: 26 | B65: 2. Direccionamiento estratégico | C65: 1. Planeación Institucional | D65: 2. Suministrar los bienes y servicios en condiciones de calidad, oportunidad y eficiencia a las personas privadas de la libertad a cargo del INPEC | E65: 2.1 Prestar el servicio de alimentación a la población privada de la libertad con criterios de calidad y eficiencia | F65: Proveer la alimentación a internos mediante el sistema de ración conformado por cuatro tiempos (desayuno, almuerzo, cena refrigerio nocturno), con promoción de hábitos alimentarios saludables, suministrando raciones para población en condiciones especiales, raciones para gestantes y lactantes. | G65: Realizar el proceso precontractual y contractual para la prestación del servicio de alimentación y la interventoría del mismo, de acuerdo al modelo de alimentación actualizado y vigente y a los estándares del decreto 2674 de 2013 (acorde al cumplimiento del anexo 20 de la Licitación Pública). | H65: 45292 | I65: 45473 | J65: 7. Gestión de Suministro de Bienes y Prestación de Servicios | K65: 11. Subdirección de Suministro de Servicios | L65: 8. Subdirector de Suministro de Servicios | M65: Porcentaje de avance en las actividades requeridas para garantizar la ejecución precontractual y contractual para el suministro de alimentación | N65: Porcentaje de avance ejecutado en el proceso precontractual y contractual para el suministro de alimentación / Porcentaje programado en el proceso precontractual y contractual para el suministro de alimentación | O65: 1 | W65: =O65+Q65+S65+U65 -> 1
A68: 27 | B68: 2. Direccionamiento estratégico | C68: 1. Planeación Institucional | D68: 2. Suministrar los bienes y servicios en condiciones de calidad, oportunidad y eficiencia a las personas privadas de la libertad a cargo del INPEC | E68: 2.1 Prestar el servicio de alimentación a la población privada de la libertad con criterios de calidad y eficiencia 2.2 Establecer un proceso de evaluación a través de indicadores sobre la implementación del actual modelo de atención en salud a la PPL | F68: Proveer la alimentación a internos mediante el sistema de ración conformado por cuatro tiempos (desayuno, almuerzo, cena refrigerio nocturno), con promoción de hábitos alimentarios saludables, suministrando raciones para población en condiciones especiales, raciones para gestantes y lactantes. Un modelo de atención integral en salud que cuente con cobertura, oportunidad y eficiencia para la PPL a cargo del INPEC. | G68: Dar cumplimiento a los requerimientos del Ministerio de Justicia y el Derecho para la actualización de la batería de estándares e indicadores de las Normas Técnicas para la Vida en reclusión del ECI, según lo ordenado por la Sentencia 388 de 2013 y T-762-2015. de acuerdo a la competeNcia de la Dirección Logística | H68: 45292 | I68: 45656 | J68: 7. Gestión de Suministro de Bienes y Prestación de Servicios | K68: 16. Dirección Logística | L68: 16. Directora de Logistica | M68: Porcentaje de avance en el cumplimiento de los requerimientos | N68: Número de requerimientos atendidos / Numero de requerimientos solicitados * 100% | O68: 0 | Q68: 0.5 | S68: 0 | U68: 0.5 | W68: =O68+Q68+S68+U68 -> 1
A69: 28 | B69: 2. Direccionamiento estratégico | C69: 1. Planeación Institucional | D69: 2. Suministrar los bienes y servicios en condiciones de calidad, oportunidad y eficiencia a las personas privadas de la libertad a cargo del INPEC | E69: 2.1 Prestar el servicio de alimentación a la población privada de la libertad con criterios de calidad y eficiencia | F69: Proveer la alimentación a internos mediante el sistema de ración conformado por cuatro tiempos (desayuno, almuerzo, cena refrigerio nocturno), con promoción de hábitos alimentarios saludables, suministrando raciones para población en condiciones especiales, raciones para gestantes y lactantes. | G69: Realizar seguimiento a la interventoría del servicio de alimentación de acuerdo a lo contratado. | H69: 45292 | I69: 45657 | J69: 7. Gestión de Suministro de Bienes y Prestación de Servicios | K69: 11. Subdirección de Suministro de Servicios | L69: 8. Subdirector de Suministro de Servicios | M69: Porcentaje de meses cubiertos en seguimiento a través de informe(s) de apoyo a la supervisión del servicio de interventoría | N69: No. de meses cubiertos por los informes entregados / 3 x 25% | O69: 0.25 | Q69: 0.25 | S69: 0.25 | U69: 0.25 | W69: =O69+Q69+S69+U69 -> 1
A73: 29 | B73: 2. Direccionamiento estratégico | C73: 1. Planeación Institucional | D73: 2. Suministrar los bienes y servicios en condiciones de calidad, oportunidad y eficiencia a las personas privadas de la libertad a cargo del INPEC | E73: 2.1 Prestar el servicio de alimentación a la población privada de la libertad con criterios de calidad y eficiencia | F73: Proveer la alimentación a internos mediante el sistema de ración conformado por cuatro tiempos (desayuno, almuerzo, cena refrigerio nocturno), con promoción de hábitos alimentarios saludables, suministrando raciones para población en condiciones especiales, raciones para gestantes y lactantes. | G73: Realizar seguimiento al cumplimiento ANS (Acuerdos de Nivel de Servicio) de alimentación establecidos del anexo técnico de la licitación pública. | H73: 45292 | I73: 45657 | J73: 7. Gestión de Suministro de Bienes y Prestación de Servicios | K73: 11. Subdirección de Suministro de Servicios | L73: 8. Subdirector de Suministro de Servicios | M73: Porcentaje de avance en el seguimiento a los Acuerdos de Nivel de Servicio de alimentación | N73: No Actas de mesas de descuento entregadas / No Total de mesas de descuentos realizadas * 100% | O73: 0.25 | Q73: 0.25 | S73: 0.25 | U73: 0.25 | W73: =O73+Q73+S73+U73 -> 1
A77: 30 | B77: 2. Direccionamiento estratégico | C77: 1. Planeación Institucional | D77: 2. Suministrar los bienes y servicios en condiciones de calidad, oportunidad y eficiencia a las personas privadas de la libertad a cargo del INPEC | E77: 2.2 Establecer un proceso de evaluación a través de indicadores sobre la implementación del actual modelo de atención en salud a la PPL | F77: Un modelo de atención integral en salud que cuente con cobertura, oportunidad y eficiencia para la PPL a cargo del INPEC. | G77: Comprometer el 100% de los recursos asignados para la vigencia, por parte de la Subdirección de Suministro de Servicios | H77: 45292 | I77: 45657 | J77: 7. Gestión de Suministro de Bienes y Prestación de Servicios | K77: 11. Subdirección de Suministro de Servicios | L77: 8. Subdirector de Suministro de Servicios | M77: Porcentaje de avance de los recursos comprometidos | N77: Recursos comprometidos / Recursos asignados * 100 | O77: 0.3 | Q77: 0.6 | S77: 0.1 | U77: 0 | W77: =O77+Q77+S77+U77 -> 1
A78: 31 | B78: 2. Direccionamiento estratégico | C78: 1. Planeación Institucional | D78: 2. Suministrar los bienes y servicios en condiciones de calidad, oportunidad y eficiencia a las personas privadas de la libertad a cargo del INPEC | E78: 2.2 Establecer un proceso de evaluación a través de indicadores sobre la implementación del actual modelo de atención en salud a la PPL | F78: Un modelo de atención integral en salud que cuente con cobertura, oportunidad y eficiencia para la PPL a cargo del INPEC. | G78: Obligar por lo menos el 80% de los recursos comprometidos para la vigencia, por parte de la Subdirección de Suministro de Servicios | H78: 45292 | I78: 45657 | J78: 7. Gestión de Suministro de Bienes y Prestación de Servicios | K78: 11. Subdirección de Suministro de Servicios | L78: 8. Subdirector de Suministro de Servicios | M78: Porcentaje de avance en los recursos obligados | N78: Recursos obligados / Recursos comprometidos * 100 | O78: 0.2 | Q78: 0.4 | S78: 0.3 | U78: 0.1 | W78: =O78+Q78+S78+U78 -> 1
A79: 32 | B79: 2. Direccionamiento estratégico | C79: 1. Planeación Institucional | D79: 2. Suministrar los bienes y servicios en condiciones de calidad, oportunidad y eficiencia a las personas privadas de la libertad a cargo del INPEC | E79: 2.2 Establecer un proceso de evaluación a través de indicadores sobre la implementación del actual modelo de atención en salud a la PPL | F79: Un modelo de atención integral en salud que cuente con cobertura, oportunidad y eficiencia para la PPL a cargo del INPEC. | G79: Obligar el 100% de los recursos que fueron constituidos como reserva presupuestal en la vigencia anterior, por parte de la Subdirección de Suministro de Servicios | H79: 45292 | I79: 45657 | J79: 7. Gestión de Suministro de Bienes y Prestación de Servicios | K79: 11. Subdirección de Suministro de Servicios | L79: 8. Subdirector de Suministro de Servicios | M79: Porcentaje de avance de los recursos obligados, constituidos como reserva en la vigencia anterior | N79: Recursos obligados / Recursos comprometidos constituidos como reserva en la vigencia anterior *100 | O79: 0.4 | Q79: 0.6 | S79: 0 | U79: 0 | W79: =O79+Q79+S79+U79 -> 1
A80: 33 | B80: 2. Direccionamiento estratégico | C80: 1. Planeación Institucional | D80: 2. Suministrar los bienes y servicios en condiciones de calidad, oportunidad y eficiencia a las personas privadas de la libertad a cargo del INPEC | E80: 2.2 Establecer un proceso de evaluación a través de indicadores sobre la implementación del actual modelo de atención en salud a la PPL | F80: Un modelo de atención integral en salud que cuente con cobertura, oportunidad y eficiencia para la PPL a cargo del INPEC. | G80: Realizar seguimiento a la prestación del servicio de salud de acuerdo a la ruta de atención de la PPL con patología mental. | H80: 45444 | I80: 45656 | J80: 7. Gestión de Suministro de Bienes y Prestación de Servicios | K80: 11. Subdirección de Suministro de Servicios | L80: 8. Subdirector de Suministro de Servicios | M80: Porcentaje de avance en el seguimiento a la prestación del servicio de salud de acuerdo a la ruta de atención de la PPL con patología mental. | N80: No. De meses cubiertos por los informes entregados /3 Meses x 100% | O80: 0.25 | Q80: 0.25 | S80: 0.25 | U80: 0.25 | W80: =O80+Q80+S80+U80 -> 1
A84: 34 | B84: 2. Direccionamiento estratégico | C84: 1. Planeación Institucional | D84: 2. Suministrar los bienes y servicios en condiciones de calidad, oportunidad y eficiencia a las personas privadas de la libertad a cargo del INPEC | E84: 2.2 Establecer un proceso de evaluación a través de indicadores sobre la implementación del actual modelo de atención en salud a la PPL | F84: Un modelo de atención integral en salud que cuente con cobertura, oportunidad y eficiencia para la PPL a cargo del INPEC. | G84: Realizar seguimiento a la prestación en servicios de salud de acuerdo a la ruta de atención de la población diferencial LGTBIQ+ | H84: 45444 | I84: 45656 | J84: 7. Gestión de Suministro de Bienes y Prestación de Servicios | K84: 11. Subdirección de Suministro de Servicios | L84: 8. Subdirector de Suministro de Servicios | M84: Porcentaje de avance en el seguimiento a la prestación del servicio de salud de acuerdo a la ruta de atención de la población diferencial LGTBIQ+ | N84: No. de meses cubiertos por los informes entregados / 6 Meses x 50 % | O84: 0 | Q84: 0 | S84: 0.5 | U84: 0.5 | W84: =O84+Q84+S84+U84 -> 1
...

Sheet Hoja24

Sheet Hoja21
A1: No. | B1: Dependencia | C1: No. de actividades en el Plan de Acción | D1: % de actividades en el Plan de Acción | G1: No. | H1: Dependencia | I1: No. de actividades en el Plan de Acción | J1: % de actividades en el Plan de Acción
A2: 1 | B2: Subdirección de Suministro de Servicios | C2: 13 | D2: =C2/$C$14 -> 0.15662651 | G2: 1 | H2: Subdirección de Suministro de Servicios | I2: 13 | J2: 0.15662651
A3: 2 | B3: Dirección Administrativa y Financiera | C3: 15 | D3: =C3/$C$14 -> 0.18072289 | G3: 2 | H3: Dirección Administrativa y Financiera | I3: 12 | J3: 0.18072289
A4: 3 | B4: Subdirección de Seguimiento a la Infraestructura | C4: 10 | D4: =C4/$C$14 -> 0.12048193 | G4: 3 | H4: Subdirección de Seguimiento a la Infraestructura | I4: 10 | J4: 0.12048193
A5: 4 | B5: Oficina de Tecnología - OTEC | C5: 8 | D5: =C5/$C$14 -> 0.096385542 | G5: 4 | H5: Oficina de Tecnología - OTEC | I5: 8 | J5: 0.096385542
A6: 5 | B6: Subdirección de Suministro de Bienes | C6: 7 | D6: =C6/$C$14 -> 0.084337349 | G6: 5 | H6: Subdirección de Suministro de Bienes | I6: 7 | J6: 0.084337349
A7: 6 | B7: Oficina Asesora Jurídica | C7: 7 | D7: =C7/$C$14 -> 0.084337349 | G7: 6 | H7: Oficina Asesora Jurídica | I7: 7 | J7: 0.084337349
A8: 7 | B8: Subdirección de Construcción y Conservación | C8: 7 | D8: =C8/$C$14 -> 0.084337349 | G8: 7 | H8: Subdirección de Construcción y Conservación | I8: 7 | J8: 0.084337349
A9: 8 | B9: Subdirección de Atención a los Establecimientos de Reclusión | C9: 4 | D9: =C9/$C$14 -> 0.048192771 | G9: 8 | H9: Subdirección de Atención a los Establecimientos de Reclusión | I9: 4 | J9: 0.048192771
A10: 9 | B10: Oficina Asesora de Planeación y Desarrollo | C10: 6 | D10: =C10/$C$14 -> 0.072289157 | G10: 9 | H10: Oficina Asesora de Planeación y Desarrollo | I10: 4 | J10: 0.072289157
A11: 10 | B11: Oficina de Control Interno | C11: 3 | D11: =C11/$C$14 -> 0.036144578 | G11: 10 | H11: Oficina de Control Interno | I11: 3 | J11: 0.036144578
A12: 11 | B12: Dirección de Gestión Contractual | C12: 2 | D12: =C12/$C$14 -> 0.024096386 | G12: 11 | H12: Dirección de Gestión Contractual | I12: 2 | J12: 0.024096386
A13: 12 | B13: Dirección General - Comunicaciones | C13: 1 | D13: =C13/$C$14 -> 0.012048193 | G13: 12 | H13: Dirección General - Comunicaciones | I13: 1 | J13: 0.012048193
A14: TOTAL | C14: =SUM(C2:C13) -> 83 | D14: =SUM(D2:D13) -> 1 | G14: TOTAL | I14: =SUM(I2:I13) -> 78 | J14: 1

Sheet Hoja22
A1: No. | B1: Dependencia | C1: Enlace | D1: Estado de validación | E1: No. de actividades en el Plan de Acción | F1: % de actividades en el Plan de Acción
A2: 1 | B2: Subdirección de Suministro de Servicios | C2: David Plata | D2: OK | E2: 13 | F2: =E2/$E$14 -> 0.15662651
A3: 2 | B3: Subdirección de Suministro de Bienes | C3: David Plata | D3: OK | E3: 7 | F3: =E3/$E$14 -> 0.084337349
A4: 3 | B4: Subdirección de Seguimiento a la Infraestructura | C4: Sandra Lizeth Castellanos | D4: OK | E4: 10 | F4: =E4/$E$14 -> 0.12048193
A5: 4 | B5: Subdirección de Construcción y Conservación | C5: Nelson David Guerrero | D5: Pendiente | E5: 7 | F5: =E5/$E$14 -> 0.084337349
A6: 5 | B6: Dirección Administrativa y Financiera | C6: Ariel Fernando Rojas | D6: OK (Decreto 612 de 2018) | E6: 15 | F6: =E6/$E$14 -> 0.18072289
A7: 6 | B7: Oficina de Tecnología - OTEC | C7: Imelda Mancipe | D7: Enviado para validación | E7: 8 | F7: =E7/$E$14 -> 0.096385542
A8: 7 | B8: Oficina Asesora Jurídica | C8: Carmen Capador | D8: Pendiente | E8: 7 | F8: =E8/$E$14 -> 0.084337349
A9: 8 | B9: Oficina Asesora de Planeación y Desarrollo | D9: Pendiente | E9: 6 | F9: =E9/$E$14 -> 0.072289157
A10: 9 | B10: Oficina de Control Interno | C10: Diana Lopez | D10: OK | E10: 3 | F10: =E10/$E$14 -> 0.036144578
A11: 10 | B11: Dirección de Gestión Contractual | C11: Maria Angélica Osme | D11: Pendiente | E11: 2 | F11: =E11/$E$14 -> 0.024096386
A12: 11 | B12: Subdirección de Atención a los Establecimientos de Reclusión | C12: Olga Bernal | D12: Pendiente reunión martes | E12: 4 | F12: =E12/$E$14 -> 0.048192771
A13: 12 | B13: Dirección General - Comunicaciones | C13: Luisa Perez | D13: OK | E13: 1 | F13: =E13/$E$14 -> 0.012048193
A14: TOTAL | E14: =SUM(E2:E13) -> 83 | F14: 1

Sheet PLAN DE ACCIÓN (2)
C1: MARIZ DE SEGUIMIENTO PLAN DE ACCIÓN 2023
E3: 1. VIGENCIA | F3: 2023 | J3: 2. ETAPA:
A4: 4. DIMENSIONES OPERATVAS DEL MIPG | B4: 5 POLÍTICA DE GESTIÓN Y DESEMPEÑO INSTITUCIONAL | C4: 6. OBJETIVO ESTRATEGICO | D4: 7. ESTRATEGIA | E4: 8. META | F4: 9. ACTIVIDAD | G4: 10. TIEMPO PROGRAMADO | I4: 11. PROCESO | L4: 12. INDICADOR | N4: 13. AUTOEVALUACIÓN | X4: Indicador de cumplimiento (si el avance del trimestre es <= a 50%, debe generar plan de choque) | Y4: 14. AMPLIACIÓN DE LA AUTOEVALUACIÓN | Z4: Si el indicador presentó rezagos en la ejecución, indique las razones, así como las acciones a tomar en el siguiente trimestre | AA4: 15. SEGUIMIENTO OAPLA
G5: FECHA INICIAL | H5: FECHA FINAL | I5: NOMBRE | J5: DEPENDENCIA | K5: RESPONSABLE | L5: NOMBRE DEL INDICADOR | M5: FÓRMULA DE CÁLCULO | N5: PRIMER TRIMESTRE | P5: SEGUNDO TRIMESTRE | R5: TERCER TRIMESTRE | T5: CUARTO TRIMESTRE | V5: % ACUMULADO
N6: PR | O6: EJ | P6: PR | Q6: EJ | R6: PR | S6: EJ | T6: PR | U6: EJ | V6: PR | W6: EJ
A7: 2. Direccionamiento estratégico | B7: 1. Planeación Institucional | C7: 3. Fortalecer la capacidad institucional y el talento humano por medio del mejoramiento de procesos y el desarrollo de competencias para incrementar la productividad y calidad de los servicios, contribuyendo a la favorabilidad de la imagen de la entidad | D7: 3.1 Fortalecer las capacidades, competencias, habilidades, conocimientos y el bienestar integral del Talento Humano al servicio de la USPEC | E7: 100% en el cumplimiento del Plan Estratégico de Talento Humano en la vigencia | F7: Formular e implementar el Plan de Previsión de Recursos Humanos de la vigencia | G7: 45292 | H7: 45657 | I7: 8. Gestión Administrativa y Financiera | J7: 14. Dirección Administrativa y Financiera | K7: 14. Director Administrativo y Financiero | L7: Porcentaje de avance en la formulación e implementación del Plan de Previsión de Recursos Humanos de la vigencia | M7: % de avance en la ejecución del Plan de Previsión de Recursos Humanos / Avance programado en la ejecución del Plan de Previsión de Recursos Humanos | N7: 0.25 | P7: 0.25 | R7: 0.25 | T7: 0.25 | V7: =N7+P7+R7+T7 -> 1 | AF7: Trim_I: No se presentaron nombramientos durante el primer trimestre de 2023 Trim_II: De acuerdo a la proyección de ejecución el Plan de previsión de recursos humanos para el segundo trimestre presentó un avance del 25%, como resultado de lo anterior del total de 341 cargos financiados con 321 cargos provistos y 20 cargos vacantes. | AG7: Trim_I: El área adjunta el informe de seguimiento a la actividad, el cual refleja un cumplimiento del 25% para e trimestre, este corresponde al planeado. Trim_II: El área presenta el informe solicitado, por lo tanto se otorga un porcentaje de avance del 25 % para este segundo trimestre.
AF8: Trim_I: A corte del primer trimestre, se ha logrado suscribir un contrato, el cual hace referencia al CTO 066 de 2023, cuyo objeto es: Instalación, mantenimiento y puesta en marcha de plantas eléctricas y mantenimiento de infraestructura eléctrica y adecuaciones a los asociados para los ERON. No se adjunta aun la matriz de seguimiento, porque apenas se contrató. Trim_II: A corte del primer trimestre, se ha logrado suscribir un contrato, el cual hace referencia al CTO 066 de 2023, cuyo objeto es: Instalación, mantenimiento y puesta en marcha de plantas eléctricas y mantenimiento de infraestructura eléctrica y adecuaciones a los asociados para los ERON. No se adjunta aun la matriz de seguimiento, dado que el CTO de encuentra en proceso de sesión. Al obtener acta de inició se podrá anexar el contrato en la matriz, para así lograr llevar un seguimiento de este. | AG8: Trim_I: Se evidencia que el área realiza seguimiento a la ejecución contractual y anexan la matriz como soporte, por lo anterior se otorga un 25% para el trimestre. Trim_II: El área presenta los soportes de seguimiento, por lo tanto se otorga un porcentaje de avance del 25% para el segundo trimestre.
AF9: Trim_I: Según el CEN, se identifica que en el primer trimestre, la subdirección a ejecutado del presupuesto obligado un 0,04%, esto lo podemos comprender de la siguiente forma: CEN arroja que a corte de 31 de marzo de la vigencia del presupuesto total asignado para 2023 ($100,246,701,770,00 COP), se ha obligado un total de $44,574,634,00 COP. Se pude evidenciar en el CEN como documento adjunto, el total del presupuesto obligado. Trim_II: Se evidencia, según el CEN, que para le segundo trimestre de la vigencia, se ha obligado un 1% del presupuesto. indicado de la siguiente forma: CEN arroja que de 1 de abril al 30 de junio del año en curso, se obligó un total de $1,147,568,970,00 COP, del presupuesto total asignado ($100,246,701,770, COP) | AG9: Trim_I: El área adjunta el CEN de pagos en el cual se evidencia un 0,04% de ejecución, aunque es bajo, el área no proyecto para este trimestre avance, es a partir del segundo trimestre cuando se debe avanzar en esta actividad. Trim_II: Acorde a la información suministrada por el área con relación al avance de ejecución presupuestal, se otorga un porcentaje 1% para el segundo trimestre.
A10: 2. Direccionamiento estratégico | B10: 1. Planeación Institucional | C10: 1. Construir, ampliar, Fortalecer y conservar la infraestructura física penitenciaria y carcelaria con un enfoque humano, sostenible y orientado a al bienestar de la población privada de la libertad a cargo del INPEC | D10: 1.3 Intervenir establecimientos carcelarios del orden nacional a través de adecuaciones y mantenimiento | E10: Contratar el 100% de las intervenciones de fortalecimiento y la infraestructura programadas (priorización ñipe y/o ordenada por acción judicial u órgano superior) | F10: Hacer seguimiento a la ejecución contractual de la vigencia para las intervenciones de fortalecimiento a la infraestructura | G10: 44927 | H10: 45291 | I10: 5. Gestión de la Infraestructura | J10: 8. Subdirección de Construcción y Conservación | K10: 5. Subdirector de Construcción y Conservación | L10: % de avance de los contratos (Se entrega con Matriz de Reporte de seguimiento de los contratos de las intervenciones de mantenimiento y adecuación con corte a la fecha) | M10: ((No. seguimiento a contratos de la vigencia /No. de contratos suscritos de la vigencia con corte a la fecha) x 100)/4 | N10: 0.25 | P10: 0.25 | R10: 0.25 | T10: 0.25 | V10: =N10+P10+R10+T10 -> 1 | AF10: Trm_I: Durante el primer semestre de 2023 no se adelantaron mesas de trabajo, dado que el INPEC esta pendiente de asignar funcionario que asistirá como delegado a las mesas de trabajo en el desarrollo del Documento de Lineamientos de Diseño. Trim_II: Durante el segundo semestre de 2023 se adelantaron mesas de trabajo con los profesionales especializados de la Subdirección de Seguimiento en la revisión de diseños de los proyectos que actualmente se encuentran en desarrollo, lo que permite contar con insumos para la elaboración del Documento de Lineamientos de Diseño. Se anexan actas reunión | AG10: Trim_I: A pesar que el área reporta en la autoevaluación un porcentaje del 15% de avance en la actividad, no se otorga, debido a que no se evidencian acciones para el cumplimiento de la misma, tampoco reportan un sustento o soporte. Trim_II: El área aporta actas de mesas de trabajo en las cuales se evidencia el seguimiento, sin embargo no se presenta el documento de % de avance de Lineamientos de Diseño, Operación y Dotación para la Infraestructura. Por lo tanto se otorga 20% de avance para el segundo trimestre.
AF11: Trim_I: Respecto a esta actividad aún no hay avances dado que los documentos precontractuales y contractuales están previstos para el segundo trimestre de la vigencia, una vez se adelante el proceso de solicitud de vigencia futura de 2024 y estructuración de borrador de pliegos de condiciones para licitación pública. Trim_II: Esta actividad aún no hay avances dado que los documentos precontractuales y contractuales están previstos para el tercer trimestre de la vigencia, una vez se adelante el proceso de solicitud de vigencia futura de 2024 y estructuración de borrador de pliegos de condiciones para licitación pública. | AG11: Trim_I: El área aún no reporta avance en la actividad, se están realizando acciones las cuales serán relacionadas en el segundo trimestre Trim_II: El área aún no reporta avance en la actividad, se están realizando acciones las cuales serán relacionadas en el tercer trimestre por lo tanto no se otorga porcentaje de avance para este trimestre.
AF12: Trim_I: Respecto a esta actividad aún no hay avances dado que los documentos precontractuales y contractuales están previstos para el segundo trimestre de la vigencia, una vez se adelante el proceso de solicitud de vigencia futura de 2024 y estructuración de borrador de pliegos de condiciones para licitación pública. Trim_II: Esta actividad aún no hay avances dado que los documentos precontractuales y contractuales están previstos para el tercer trimestre de la vigencia, una vez se adelante el proceso de solicitud de vigencia futura de 2024 y estructuración de borrador de pliegos de condiciones para licitación pública. | AG12: Trim_I: El área aún no reporta avance en la actividad, se están realizando acciones las cuales serán relacionadas en el segundo trimestre Trim_II: El área aún no reporta avance en la actividad, se están realizando acciones las cuales serán relacionadas en el tercer trimestre por lo tanto no se otorga porcentaje de avance para este trimestre.
AF13: Trim_I: La interventoría radicó el informe de ejecución de actividades del mes de enero de 2023 el día 10 de marzo de 2023, respecto al cual se han realizado algunas observaciones y solicitudes de subsanación, por tanto, no se ha generado el informe de supervisión definitivo para este periodo, No obstante, se remite como soporte del seguimiento que se realiza permanentemente a la interventoría oficios y comunicaciones realizadas en el marco de la supervisión. Trim_II: La interventoría radicó el informe de ejecución de actividades del mes de abril de 2023, respecto al cual esta en revisión para emisión de observaciones por parte del equipo técnico por tanto, no se ha generado el informe de supervisión definitivo para este periodo. | AG13: Trim_I: Se está realizando seguimiento a la interventoría, sin embargo, no se asigna avance porcentual debido a que no anexan informe final de seguimiento. Trim_II: El área presenta un informe mensual de interventoría que corresponde al mes de abril de 2023, por lo tanto se otorga un porcentaje de avance del 8,4 % para el segundo trimestre.
