Workbook

Sheet INDICE 2018
D4: UNIDAD DE SERVICIOS PENITENCIARIOS Y CARCELARIOS
D5: Oficina de Control Interno
D7: Informe de Evaluación de Dependencias
D8: VIGENCIA 2018

Sheet CONSOLIDADO
C1: UNIDAD DE SERVICIOS PENITENCIARIOS Y CARCELARIOS
C2: Oficina de Control Interno
C4: Informe de Evaluación de Dependencias
C5: VIGENCIA 2018
D7: CONSOLIDADO
D8: Dependencia | E8: Ejecución Plan de Acción 2018 | F8: Calificación
D9: Dirección General | E9: =+'DIRECCIÓN GENERAL'!F20 -> 0.83333333 | F9: =(E9/10)*100 -> 8.3333333
D10: Oficina de Planeación | E10: =PLANEACIÓN!$F$20 -> 0.906 | F10: =(E10/10)*100 -> 9.06
D11: Oficina Jurídica | E11: =JURIDICA!F20 -> 0.9922 | F11: =(E11/10)*100 -> 9.922
D12: Oficina Tecnología | E12: =TECNOLOGÍA!F23 -> 0.8875 | F12: =(E12/10)*100 -> 8.875
D13: Dirección Contractual | E13: 0.536 | F13: =(E13/10)*100 -> 5.36
D14: Dirección Logística | E14: 0.785 | F14: =(E14/10)*100 -> 7.85
D15: Dirección Infraestructura | E15: 0.472 | F15: =(E15/10)*100 -> 4.72
D16: Dirección Adtva y Financiera | E16: ='CONSOLIDADO DIAFIN'!F23 -> 0.67421429 | F16: =(E16/10)*100 -> 6.7421429
D17: Oficina de Control Interno | E17: ='CONTROL INTERNO'!E18 -> 0.96666667 | F17: =(E17/10)*100 -> 9.6666667
D18: PROMEDIO GENERAL | E18: =AVERAGE(E9:E17) -> 0.78365714 | F18: =AVERAGE(F9:F17) -> 7.8365714
C46: OBSERVACIONES GENERALES
C47: La Oficina de Control Interno realiza la evaluación de dependencias en atención a lo dispuesto en el Artículo 39 de la Ley 909 de 2004, el Decreto 1227 de abril 21 de 2005 y la Circular 04 de septiembre 27 de 2005 del Consejo Asesor del Gobierno Nacional en Materia de Control Interno. Así mismo, corresponde a lo establecido por la Comisión Nacional del Servicios Civil en su Acuerdo 565 de 2016 mediante el cual se establece que “Dar a conocer a los responsables de la Evaluación del Desempeño, el resultado de la Evaluación de Gestión por Áreas o Dependencias (…) (Artículo 8°, Numeral 4). Para la calificación del resultado de la evaluación por dependencias del que hace mención el Acuerdo 565 de 2016 de la CNSC (Artículo 17, Numeral 3) se estableció un sistema de puntuación que homologa el avance porcentual en el cumplimiento de los compromisos definidos en la planeación institucional en puntos de 1 a 10, dividiendo por 10. Como fuente de información principal se tomaron las metas propuestas en el plan de acción institucional de la vigencia 2018, los reportes de avance y ejecución del mismo plan y de indicadores de gestión consolidados por la Oficina de Planeación, informes de gestión de las dependencias, informes de auditorías y seguimientos realizados por la oficina de control interno. El promedio general de ejecución de metas del plan de acción se ubica en el 78,05%, incrementándose en 10,34 puntos frente al promedio obtenido en la vigencia 2017. Por dependencia es notable el avance en Dirección de Logística (25 puntos), Oficina Jurídica (17 puntos) y Oficina de Tecnología (12 puntos), al comparar los resultados de la vigencia 2018 frente a 2017. Sigue siendo necesaria la precisión en la definición de las metas (medibles, verificables y posibles) y la desagregación de metas por subdirecciones y grupos para facilitar su evaluación.

Sheet DIRECCIÓN GENERAL
B2: EVALUACIÓN DE GESTIÓN POR DEPENDENCIAS
B3: OFICINA DE CONTROL INTERNO
B4: VIGENCIA 2018
B6: 1. ENTIDAD: | F6: 2. DEPENDENCIA A EVALUAR:
B7: UNIDAD DE SERVICIOS PENITENCIARIOS Y CARCELARIOS | F7: DIRECCIÓN GENERAL
B8: 3. PROCESO
B9: EVALUACIÓN DE LA GESTIÓN INSTITUCIONAL
B10: 4. OBJETIVOS ESTRATÉGICOS RELACIONADOS CON LA DEPENDENCIA
B11: Fortalecer el proceso de investigación y generación de conocimiento para el mejoramiento del Sistema Penitenciario y Carcelario
B12: Generar confianza y reconocimiento por parte de los diferentes grupos de interés para asegurar el posicionamiento de la Entidad
B13: Vincular de manera activa a organizaciones nacionales e internacionales a través de gestión interinstitucional, con el fin de proporcionar recursos para el mejoramiento del Sistema Penitenciario y Carcelario
B14: 5. COMPROMISOS ASOCIADOS AL CUMPLIMIENTO DEL OBJETIVO INSTITUCIONAL | E14: 6. MEDICIÓN DE COMPROMISOS
E15: 6.1. INDICADOR | F15: 6.2. RESULTADO % | G15: 6.3. ANÁLISIS DE RESULTADO
B16: ESTRATEGIA | C16: ACCIONES PROGRAMADAS | D16: META 2018
B17: Dar continuidad al proceso de investigación y generación de conocimiento mediante la puesta en marcha de investigaciones pertinentes para la entidad | C17: Presentar ante el MIJ y el DNP la actualización del proyecto de inversión | D17: Actualizar el proyecto de inversión de Estudios e Investigaciones sobre el Sistema Penitenciario y Carcelario: Proyecto de inversión reformulado. | E17: Actualizar el proyecto de inversión de Estudios e Investigaciones sobre el Sistema Penitenciario y Carcelario | F17: 0.6 | G17: Ficha Código Bpin: 2015011000061 Nombre del Proyecto: ESTUDIOS E INVESTIGACIONES SOBRE EL SISTEMA PENITENCIARIO Y CARCELARIO EN EL ORDEN NACIONAL-[PREVIO CONCEPTO DNP] Objetivo: CONTAR CON INFORMACIÓN RELEVANTE, ACTUALIZADA Y CONFIABLE DEL SISTEMA PENITENCIARIO Y CARCELARIO QUE SOPORTE EL PROCESO DE TOMA DE DECISIONES. HORIZONTE. 2016 - 2018 Fecha Útima Modificación 2016-05-31 01:05:31 Resultados conexos: 1. Documento: Benchmarking De Buenas Prácticas Internacionales Para La Estructuración De Alianzas Público Privadas Para La Construcción, Operación Y Mantenimiento De Establecimientos De Reclusión. Anexo: Contexto Normativo Sobre el uso de Asociaciones Público Privadas, APP, para la construcción y adecuación de infraestructuras carcelarias 2. Presenatciòn Benchmarking internacional: Estructuración de APP en establecimientos carcelarios. marco normativo, Benchmarking funcional / estudios de caso comparados. Al verificar el Sistema de Seguimiento a Proyectos de Inversión SPI se observan solo dos proyectos de inversión registrados: Fortalecimiento de la gestión y dirección del Sector Justicia; y del Derecho y Sistema penitenciario y carcelario en el marco de los derechos humanos. En el marco del primer proyecto se observa un subproyecto: IMPLEMENTACIÓN DEL SISTEMA DE GESTIÓN DOCUMENTAL DE LA ENTIDAD Para el segundo proyecto se registran los siguientes subproyectos: • Construcción y ampliación de infraestructura para generación de cupos en los establecimientos de reclusión del orden nacional • Implementación del sistema de gestión de seguridad de la información en la ciudad de Bogotá • implementación de salas para la realización de audiencias virtuales en los establecimientos de reclusión del orden nacional • Fortalecimiento de la seguridad en los establecimientos de reclusión del orden nacional • Fortalecimiento de la infraestructura física en los Eron a cargo del Inpec No es claro si se realizó o no la reformulación del proyecto Sistema Penitenciario y Carcelario. En los reportes trimestrales de avance del Plan de Acción 2018 se incluye la meta hasta el tercer reporte (corte septiembre 30 de 2018) y no se registra avance. Si el proeycto fue cancelado, no se actualizó la meta del plan de acción 2018.
B18: Posicionar la imagen y la gestión de la Unidad en el entorno institucional y nacional | C18: Implementar el cronograma del Plan Estratégico de Comunicaciones. | D18: Actualizar y Desarrollar el Plan Estratégico de comunicaciones: Avance del cronograma del Plan Estratégico de Comunicaciones. | E18: Avance del cronograma del Plan Estratégico de Comunicaciones. | F18: 0.9 | G18: No fue presentado el Plan de Comunicaciones para la vigencia 2018. Se presentó un documento de Estrategias de Comunicaciones, pero no se evidencia su aprobación. No obstante, a lo largo de la vigencia se observan reportes del plan de acción (corte a tercer trimestre de 2018) como los siguientes. Realización del monitoreo de medios con un total de 62 noticias, 43 comunicados de prensa, 124 publicaciones en las Redes Sociales, 230 publicaciones internas. El 24 de Julio se realizó la Audiencia Pública de Rendición de Cuentas vigencia primer periodo 2018, publicado en la página web y redes sociales; diagramación y publicación del Informe de Rendición de Cuentas vigencia 2018.
B19: Promover la búsqueda de recursos financieros y no financieros a través de gestión interinstitucional | C19: Impulsar la estructuración de proyectos de infraestructura penitenciaria y carcelaria con vinculación de capital privado | D19: Estructurar un proyecto de infraestructura penitenciaria y carcelaria con vinculación de capital privado: Proyecto estructurado | E19: Proyecto con vinculación de capital privado estructurado | F19: 1 | G19: Resultados evidenciados: 1. Documento: Benchmarking De Buenas Prácticas Internacionales Para La Estructuración De Alianzas Público Privadas Para La Construcción, Operación Y Mantenimiento De Establecimientos De Reclusión. Anexo: Contexto Normativo Sobre el uso de Asociaciones Público Privadas, APP, para la construcción y adecuación de infraestructuras carcelarias 2. Presenatciòn Benchmarking internacional: Estructuración de APP en establecimientos carcelarios. marco normativo, Benchmarking funcional / estudios de caso comparados.
B20: PROMEDIO AVANCE METAS | F20: =AVERAGE(F17:F19) -> 0.83333333
B21: Calificación de la Evaluación de la Dependencia | F21: =(F20/10)*100 -> 8.3333333
B22: 7. EVALUACIÓN DE LA OFICINA DE CONTROL INTERNO A LOS COMPROMISOS DE LA DEPENDENCIA: Para la Evaluación de Dependencias se adoptó como referente: a) La planeación institucional enmarcada en la visión, misión y objetivos del organismo; definida en la USPEC en el Plan de Acción Anual. b) Los objetivos institucionales por dependencia y sus compromisos relacionados; c) Los resultados de la ejecución por dependencias, de acuerdo con lo programado en la planeación institucional, contenidos en los informes de seguimiento de las Oficinas de Planeación. Para la puntuación del resultado de la evaluación por dependencias del que hace mención el Acuerdo 565 de 2016 de la CNSC (Artículo 17, Numeral 3) se estableció un sistema de calificación que homologa el avance porcentual en el cumplimiento de los compromisos definidos en la planeación institucional en puntos de 1 a 10, dividiendo por 10. La calificación final de la dependencia es de 4,6 puntos
B23: 8. RECOMENDACIONES DE MEJORAMIENTO DE LA OFICINA DE CONTROL INTERNO:
B24: Se recomienda: Crear un grupo de trabajo para el desarrollo del proceso Comunicación Estratégica organizacional, que desarrolle su propio plan de acción. Entre estas, es importante la formulación y ejecución del plan de comunicaciones, pues las actividades desarrolladas no aparecen relacionadas ni articuladas a un ejercicio de planeación sino como acciones desarticuladas. Desde la Dirección General se pueden establecer acciones estratégicas relacionadas con la coordinación interinstitucional, los estudios sobre el sistema penitenciario y carcelario y los informes a los diferentes entes de control (político, fiscal, disciplinario, entre otros). Dada la condición especifica del Despacho de la Dirección como dependencia, se recomienda ajustar las acciones definidas teniendo en cuenta su rol de coordinación, supervisión o seguimiento de las acciones, programas y proyectos estratégicos de la Entidad. Definir la continuidad al proyecto Estudios e investigaciones sobre el sistema penitenciario y carcelario en el orden Nacional: plan de trabajo, cronograma, responsables, resultados esperados.
B25: 9. FECHA: Enero 31 de 2019
B26: 10. INFORME PRESENTADO POR: Oficina de Control Interno. | G26: JOSE JORGE ROCA MARTÍNEZ - Jefe Oficina de Control Interno
G27: Formato en prueba de uso

Sheet PLANEACIÓN
B2: EVALUACIÓN DE GESTIÓN POR DEPENDENCIAS
B3: OFICINA DE CONTROL INTERNO
B4: VIGENCIA 2018
B6: 1. ENTIDAD: | F6: 2. DEPENDENCIA A EVALUAR:
B7: UNIDAD DE SERVICIOS PENITENCIARIOS Y CARCELARIOS | F7: OFICINA ASESORA DE PLANEACIÓN
B8: 3. PROCESO
B9: EVALUACIÓN DE LA GESTIÓN INSTITUCIONAL
B10: 4. OBJETIVOS ESTRATÉGICOS RELACIONADOS CON LA DEPENDENCIA
B11: Generar confianza y reconocimiento por parte de los diferentes grupos de interés para asegurar el posicionamiento de la Entidad
B12: 5. COMPROMISOS ASOCIADOS AL CUMPLIMIENTO DEL OBJETIVO INSTITUCIONAL | E12: 6. MEDICIÓN DE COMPROMISOS
E13: 6.1. INDICADOR | F13: 6.2. RESULTADO % | G13: 6.3. ANÁLISIS DE RESULTADO
B14: ESTRATEGIA | C14: ACCIONES PROGRAMADAS | D14: META 2017
B15: Mantener y mejorar el Sistema Integrado de Gestión Institucional - SIGA - | C15: Realizar campañas de sensibilización y motivación para la apropiación del SIGA | D15: Realizar campañas de sensibilización y motivación para la apropiación del SIGA: Adelantar sensibilización para la operacionalización del SIGA al 50% de los funcionarios vinculados a la Entidad, con corte al 31 de enero de 2018 | E15: No. De funcionarios sensibilizados /No de funcionarios vinculados a la Entidad: | F15: 1 | G15: Reporte de OAPLA: Realización de 22 mesas de trabajo, para concienciar la importancia de los indicadores de Gestión y apoyar el proceso de reformulación, formular planes de mejoramiento enfocados en establecer correcciones que eliminen directamente las no conformidades y acciones correctivas y eliminar las causas de las mismas. Inducción a nuevos funcionarios. Capacitación enfocada en el funcionamiento del módulo de encuestas del sistema GEO, dando como resultado la sensibilización en temas del SIGA, para un acumulado a la fecha de 218 funcionarios, superando la meta establecida del 50% de los funcionarios. Se evidencian en las actas: No. 1472 de 30/04/2018, 1550 de 22/05/2018, 1570 de 23/05/2018,1687 de 22/06/2018, 1682 de 19/06/2018, 1710 de 25/06/2018, 1709 del 25/06/2018, 1714 de 29/06/2018, 1721 de 29/06/2018 y 1521 de 23/04/2018. Avance 25% del segundo trimestre, para un total de 50% con corte a junio 30 de 2018, 1953 de 05/09/2018, 1927 de 17/08/2018, 2037 de 19/08/2018, 1883 de 17/08/2018, 1933 de 31/08/2018, 1828 de 09/08/2018, 1824 de 08/08/2018, 1825 09/08/2018, 1826 09/08/2018, 1827 de 09/08/2018, 1845 de 14/08/2018, 1857 de 16/08/2018, 1940 de 06/09/2018 y lista de asistentes a Capacitación Módulo de Encuestas de 13/08/2018. Observaciones OCI: es necesario precisar si el conteo de funcionarios y/o contratistas que asistieron a las mesas de trabajo de indicadores y planes de mejoramiento y a las capacitaciones del sistema GEO suma de manera individualizada con cada capacitación, teniendo en cuenta que un funcionario o contratista pudo haber participado en las dos capacitaciones y no es claro si se sumó de uno o de dos en el conteo final. No se remitieron las actas señaladas.
B16: Mantener y mejorar el Sistema Integrado de Gestión Institucional - SIGA - | C16: Capacitar en temas relacionados con el Sistema de Gestión de Calidad | D16: Formar a 20 funcionarios vinculados a la Entidad como auditor líder en ISO 9001:2015 con acreditación Internacional | E16: No de auditores formados como auditor líder / total de auditores proyectados: | F16: 0.65 | G16: Reporte de OAPLA: Se realizó el curso de Auditor líder con acreditación internacional con la firma COTECNA. Se contó con la participación de 20 funcionarios, solo 13 aprobaron y se certificaron con Auditor Líder. La información se encuentra registrada en el acta No. 1679 del 22/06/2018. Avance 13 funcionarios formados de 20 propuestos, 65%, por falta de compromiso de los funcionarios citados en algunos casos con la no asistencia y en otros por la no autorización de los jefes inmediatos. Observaciones OCI: se verificó la realización del curso de formación y la certificación de los auditores líderes en ISO 9001:2015 reportado. meta 20 - Ejecución 13 auditores formados
B17: Implementar los controles que aseguren la confiabilidad, integridad y disponibilidad de la información institucional | C17: Adelantar las acciones pertinentes de seguimiento al Plan de Acción, Plan Operativo Anual de Inversión y a la ejecución presupuestal de los recursos apropiados | D17: Realizar el seguimiento periódico al Plan de Acción, Plan Operativo Anual de Inversión y a la ejecución presupuestal: 27 informes presentados y publicados. | E17: Informes realizados y publicados / Informes planteados para la vigencia | F17: 1 | G17: Reporte de OAPLA: Realización de los informes de seguimiento a la Ejecución Presupuestal publicados en el Link: https://www.uspec.gov.co/?page_id=5919. informes avances de ejecución de Proyectos de Inversión en el Link: https://www.uspec.gov.co/?page_id=5637. Informes de avance del Plan de Acción publicados en el Link: https://www.uspec.gov.co/?page_id=5358. Informes avance Plan Anticorrupción y Atención al Ciudadano y del Mapa de Riesgos de Corrupción, publicados en el Link: https://www.uspec.gov.co/?page_id=5358. En el segundo Trimestre 2018, se incluyeron los informes de Ejecución Presupuestal y de Proyectos de Inversión correspondientes al cierre de la vigencia 2017 Observaciones OCI: Se verifican los siguientes temas: Informes de seguimiento a la Ejecución Presupuestal publicados: 12 informes Informes de seguimiento a la Plan de Acción publicados: 6 informes Informes de seguimiento a la Ejecución Plan Operativo Anual de Inversión: 12 informes Total informes verificados en la pagina web institucional: 28 informes No se consideran los informes no relacionados en la metra programada.
B18: Mantener y mejorar el Sistema Integrado de Gestión Institucional - SIGA - | C18: Evaluar el Sistema Integrado de Gestión Institucional - SIGA | D18: Realizar una (1) auditoría con el fin de evaluar el Sistema Integrado de Gestión Institucional SIGA | E18: Auditorías desarrollada / Auditorías Programadas | F18: 1 | G18: Reporte de OAPLA: o En mayo se realizó la Auditoría Interna al SIGA con el propósito de revisar los 12 procesos que conforman el sistema, incluidos los subprocesos así como la revisión al plan de mejoramiento resultado de la auditoría 2016. El informe de auditoría se puede consultar en el siguiente link: https://www.uspec.gov.co/wp-content/uploads/2018/06/Informe-Auditoria-2018.pdf. Observaciones OCI: Se verifica publicación del informe final de auditoria de seguimiento al SGC.
B19: Implementar los controles que aseguren la confiabilidad, integridad y disponibilidad de la información institucional | C19: Desarrollar las actividades requeridas para la adopción del MIPG | D19: Implementar y adoptar el Modelo Integrado de Planeación y Gestión - MIPG | E19: Cumplimiento al Cronograma de actividades para la vigencia | F19: 0.88 | G19: Reporte de OAPLA: No se reporta información al respecto Observaciones OCI: se evidencian actividades relacionadas con la implementación del MIPG como: - Encuesta MIPG en el mes de mayo de 2018 - participación de funcionarios en curso MIPG desarrollado por la ESAP - Consolidación de la matriz de seguimiento del MIPG Se evidenció el cronograma programado pero éste no se presentó ante el Comité de Gestión y Desempeño Institucional y no fue socializado ampliamente. Se valoran las actividades realizadas con un 88% (15 de 17 actividades)
B20: PROMEDIO AVANCE METAS | F20: =AVERAGE(F15:F19) -> 0.906
B21: Calificación de la Evaluación de la Dependencia | F21: =(F20/10)*100 -> 9.06
B22: 7. EVALUACIÓN DE LA OFICINA DE CONTROL INTERNO A LOS COMPROMISOS DE LA DEPENDENCIA: Para la Evaluación de Dependencias se adoptó como referente: a) La planeación institucional enmarcada en la visión, misión y objetivos del organismo; definida en la USPEC en el Plan de Acción Anual. b) Los objetivos institucionales por dependencia y sus compromisos relacionados; c) Los resultados de la ejecución por dependencias, de acuerdo con lo programado en la planeación institucional, contenidos en los informes de seguimiento de las Oficinas de Planeación. Para la puntuación del resultado de la evaluación por dependencias del que hace mención el Acuerdo 565 de 2016 de la CNSC (Artículo 17, Numeral 3) se estableció un sistema de calificación que homologa el avance porcentual en el cumplimiento de los compromisos definidos en la planeación institucional en puntos de 1 a 10, dividiendo por 10. La calificación final de la dependencia es de 8.3 puntos
B23: 8. RECOMENDACIONES DE MEJORAMIENTO DE LA OFICINA DE CONTROL INTERNO:
B24: En la planeación de la vigencia 2019 es necesario incluir acciones relacionadas con la Dimensión: Direccionamiento Estratégico y Planeación de MIPG: - Documentación y desarrollo de la totalidad de la políticas de gestión institucional. La entidad debe completar y revisar la definición de las 17 políticas relacionadas en MIPG: 1. Planeación Institucional, 2. Gestión presupuestal y eficiencia del gasto público, 3. Talento humano, 4. Integridad, 5. Transparencia, acceso a la información pública y lucha contra la corrupción, 6. Fortalecimiento organizacional y simplificación de procesos, 7. Servicio al ciudadano, 8. Participación ciudadana en la gestión pública, 9. Racionalización de trámites, 10. Gestión documental 11. Gobierno digital, 12. Seguridad digital, 13. Defensa jurídica, 14. Gestión del conocimiento y la innovación, 15. Control interno, 16. Seguimiento y evaluación del desempeño institucional, 17. Mejora normativa. - Establecer y priorizar variables que permitan caracterizar (identificar, segmentar y reconocer) sus grupos de valor, las organizaciones sociales, ciudadanos y grupos de interesados, identificando especialmente, sus rasgos, preferencias de relacionamiento con la entidad, así como derechos, necesidades y problemas. - Diseñar mecanismos que promuevan la participación ciudadana en la planeación y haga explícita la forma en la que facilita y promueve la participación en las distintas fases del ciclo de la gestión pública sobre los asuntos de su competencia. - En la formulación de los diferentes planes de la entidad, considerar metas de largo plazo, tangibles, medibles, audaces y coherentes con los problemas y necesidades que deben atender o satisfacer, evitando proposiciones genéricas que no permitan su cuantificación y definiendo los posibles riesgos asociados al cumplimiento de las prioridades. - Formular acciones de acompañamiento a las dependencias para la formulación y ejecución de los mapas de riesgos de procesos.
B25: 9. FECHA: Enero 31 de 2019
B26: 10. INFORME PRESENTADO POR: Oficina de Control Interno. | G26: JOSE JORGE ROCA MARTÍNEZ - Jefe Oficina de Control Interno
G27: Formato en prueba de uso

Sheet JURIDICA
B2: EVALUACIÓN DE GESTIÓN POR DEPENDENCIAS
B3: OFICINA DE CONTROL INTERNO
B4: VIGENCIA 2018
B6: 1. ENTIDAD: | F6: 2. DEPENDENCIA A EVALUAR:
B7: UNIDAD DE SERVICIOS PENITENCIARIOS Y CARCELARIOS | F7: OFICINA ASESORA JURÍDICA
B8: 3. PROCESO
B9: GESTIÓN JURÍDICA
B10: 4. OBJETIVOS ESTRATÉGICOS RELACIONADOS CON LA DEPENDENCIA
B11: Generar confianza y reconocimiento por parte de los diferentes grupos de interés para asegurar el posicionamiento de la Entidad
B12: 5. COMPROMISOS ASOCIADOS AL CUMPLIMIENTO DEL OBJETIVO INSTITUCIONAL | E12: 6. MEDICIÓN DE COMPROMISOS
E13: 6.1. INDICADOR | F13: 6.2. RESULTADO % | G13: 6.3. ANÁLISIS DE RESULTADO
B14: ESTRATEGIA | C14: ACCIONES PROGRAMADAS | D14: META 2018
B15: Robustecer los mecanismos de Transparencia Institucional y de lucha contra la corrupción | C15: Crear, aprobar y socializar la política de prevención del daño antijurídico en la Entidad. | D15: Implementar la política de prevención de daño antijurídico de la entidad | E15: Actividades realizadas / total de actividades planeadas | F15: 1 | G15: La Política de prevención del daño antijurídico fue adoptada con Resolución 000869 del 26 de octubre de 2018. El documento que contiene la Política de prevención del daño antijurídico – se encuentra publicado en la página web www.uspec.gov.co - POLÍTICAS INSTITUCIONALES - Código: A2-PO-02 -Versión: 01 -Vigencia: 03/08/2018, cuyo objetivo es "Reducir la litigiosidad y las reclamaciones administrativas en contra de la Unidad de Servicios Penitenciarios y Carcelarios-USPEC, con el fin de contribuir a la disminución de demandas presentadas en contra de la entidad, en un mediano plazo, y así mismo, lograr mitigar los pagos realizados por concepto de sentencias y conciliaciones". La política de prevención del daño antijurídico y defensa de los intereses de la USPEC, es aplicable a todas las áreas y dependencias de la Entidad, quienes quedan vinculadas al compromiso de hacerla actuante y velar por su aplicación. La política de prevención del daño antijurídico fue objeto de reconocimiento especial por parte de la Agencia Nacional de Defensa Jurídica del Estado, en virtud a que la misma contribuirá a la reducción de la defensa de los derechos fundamentales y los recursos públicos de la nación. El cumplimiento de la meta es del cien por ciento (100%).
B16: Robustecer los mecanismos de Transparencia Institucional y de lucha contra la corrupción | C16: Representar judicial y extrajudicialmente a la entidad en los procesos y actuaciones que se instauren en su contra o que ésta deba promover, mediante poder o delegación, y supervisar el trámite de los mismos | D16: Contestar oportunamente las demandas notificadas en los términos establecidos por la ley | E16: Acciones y demandas contestadas dentro de los términos de ley/Acciones y demandas recibidas con vencimiento dentro del trimestre | F16: 1 | G16: Verificado el aplicativo eKOGUI, se evidencian 125 demandas admitidas en la vigencia 2018, en las que se encuentra vinculada la Unidad de Servicios Penitenciarios y Carcelarios, de las cuales se encuentran activos al 31 de diciembre de 2018, 123 procesos y dos fueron terminados en la vigencia. De los 125 procesos cuyas demandas fueron admitidas en la vigencia 2018, la entidad actúa en calidad de demandante en 4 procesos y en calidad de demandada en 121. Se evidenció que la entidad designó abogado para atender los asuntos litigiosos en los que se encuentra vinculada, sin incluir las acciones de tutela en contra de la entidad. De acuerdo con lo informado por la Oficina Asesora Jurídica mediante memorando I-2019-010715 del 25 de enero de 2019, en la vigencia 2018, se recibieron 5.077 acciones de tutelas, de las cuales 5.055 se contestaron dentro de los términos legales y las 22 restantes, se contestaron en términos en el mes de enero de 2019. La USPEC fue notificada de 170 autos de admisión de demandas, de los cuales se contestaron a tiempo 164 y las 6 demandas restantes, se respondieron en términos en enero de 2019. Al verificarse en eKOGUI, la contestación de demandas en los términos legales y/o asistencia de abogados de la entidad a las distintas etapas procesales y conforme a lo reportado por la Oficina Asesora Jurídica, el cumplimiento de la meta es del 100%.
B17: Robustecer los mecanismos de Transparencia Institucional y de lucha contra la corrupción | C17: Adelantar las actuaciones disciplinarias al interior de la Entidad, tanto de las remitidas por entes de control, como las generadas al interior de la Entidad de acuerdo a lo establecido en la Ley 734 de 2002. | D17: Investigar todas las conductas disciplinarias en contra de los servidores públicos de la Entidad, garantizando la buena marcha de la gestión pública bajo los principios de la ley 734 de 2002 | E17: Autos inhibitorios de indagación preliminar y/o de apertura de investigación disciplinaria emitidos durante el trimestre / Quejas radicadas en el trimestre | F17: 1 | G17: De acuerdo con lo informado por la Oficina Asesora Jurídica mediante memorando I-2019-010715 del 25 de enero de 2019, en la vigencia 2018, se recibieron 33 informes que colocaban en conocimiento conductas con posible incidencia disciplinaria, de las cuales se dio apertura a 30 investigaciones disciplinarias, 16 de los cuales se encuentran en etapa de indagación preliminar y 14 investigaciones disciplinarias y 3 informes concluyeron con auto inhibitorio. El cumplimiento de la meta es del 100%.
B18: Robustecer los mecanismos de Transparencia Institucional y de lucha contra la corrupción | C18: Responder los derechos de petición de manera oportuna completa y de fondo | D18: Lograr una comunicación fluida y eficaz entre la USPEC, sus diferentes dependencias y los particulares, en relación con los derechos de petición de competencia de la Oficina Asesora Jurídica. | E18: Derechos de petición contestados dentro de términos de ley/Derechos de petición recibidos con vencimiento dentro del trimestre | F18: 1 | G18: De acuerdo con lo informado por la Oficina Asesora Jurídica mediante memorando I-2019-010715 del 25 de enero de 2019, en la vigencia 2018, se recibieron 257 derechos de petición, los cuales 253 se respondieron dentro del término legal de la vigencia y 4 se respondieron en tiempo en enero de 2019. La valoración de la meta se hace teniendo en cuenta los derechos de petición de competencia funcional de la Oficina Asesora Jurídica. La anterior precisión se hace teniendo en cuenta que a partir del 12 de octubre de 2018, la OAJ asumió la coordinación de las respuestas institucionales a las PQRDS que ingresen a la entidad, de conformidad con lo establecido en la Circular interna No. 19, suscrita por la Directora General de la entidad, precisión que hace el área en el memorando antes citado. El cumplimiento de la meta es del 100%.
B19: Robustecer los mecanismos de Transparencia Institucional y de lucha contra la corrupción | C19: Investigación y emisión de conceptos de manera oportuna y con un criterio netamente jurídico | D19: Generar lineamientos jurídicos claros, para que las diferentes áreas de la entidad tengan un criterio unificado | E19: Conceptos emitidos oportunamente/Solicitud de emisión de conceptos con vencimiento dentro del trimestre | F19: 0.961 | G19: De acuerdo con lo informado por la Oficina Asesora Jurídica mediante memorando I-2019-010715 del 25 de enero de 2019, en la vigencia 2018, se recibieron 26 solicitudes para rendir concepto, de los cuales quedó pendiente un (1) concepto por rendir a la espera de una respuesta a una solicitud de la entidad al Ministerio de Trabajo, y otro en termino para responder en la vigencia 2019. El cumplimiento de la meta es del 96.1%.
B20: PROMEDIO AVANCE METAS | F20: =AVERAGE(F15:F19) -> 0.9922
B21: Calificación de la Evaluación de la Dependencia | F21: =(F20/10)*100 -> 9.922
B22: 7. EVALUACIÓN DE LA OFICINA DE CONTROL INTERNO A LOS COMPROMISOS DE LA DEPENDENCIA: Las metas propuestas por la Oficina Asesora Jurídica para vigencia 2018, se cumplieron en noventa y nueve punto dos por ciento (99.2%), lo que indica un promedio alto de respuesta a sus propósitos anuales, esto es, la gestión fue altamente eficaz y eficiente. Haciendo el comparativo entre los indicadores institucionales y los resultados obtenidos en la vigencia 2018, la evaluación arroja los siguientes resultados por meta, así: Meta 1 - Implementar la política de prevención de daño antijurídico de la entidad (cumplimiento del 100%). Esta meta no fue incluida en la matriz institucional de indicadores de gestión. Meta 2: Contestar oportunamente las demandas notificadas en los términos establecidos por la ley (Cumplimiento del 100%), se ubica en rango de gestión alto, lo que indica una gestión altamente eficaz. Meta 3: Investigar todas las conductas disciplinarias en contra de los servidores públicos de la Entidad, garantizando la buena marcha de la gestión pública bajo los principios de la ley 734 de 2002 (cumplimiento del 100%), se ubica en rango de gestión alto, es decir, una gestión altamente eficaz. Meta 4: Lograr una comunicación fluida y eficaz entre la USPEC, sus diferentes dependencias y los particulares, en relación con los derechos de petición de competencia de la Oficina Asesora Jurídica. (Cumplimiento 100%), se ubica en rango de gestión alto, equivalente a una gestión altamente eficiente. Meta 5: Generar lineamientos jurídicos claros, para que las diferentes áreas de la entidad tengan un criterio unificado (cumplimiento 99.2%), se ubica en rango de gestión alto, esto es, la gestión fue altamente eficiente.
B23: Para la Evaluación de Dependencias se adoptó como referente: a) La planeación institucional enmarcada en la visión, misión y objetivos del organismo; definida en la USPEC en el Plan de Acción Anual. b) Los objetivos institucionales por dependencia y sus compromisos relacionados; c) Los resultados de la ejecución por dependencias, de acuerdo con lo programado en la planeación institucional, contenidos en los informes de seguimiento de las Oficinas de Planeación. Para la puntuación del resultado de la evaluación por dependencias del que hace mención el Acuerdo 565 de 2016 de la CNSC (Artículo 17, Numeral 3) se estableció un sistema de calificación que homologa el avance porcentual en el cumplimiento de los compromisos definidos en la planeación institucional en puntos de 1 a 10, dividiendo por 10.
B24: 8. RECOMENDACIONES DE MEJORAMIENTO DE LA OFICINA DE CONTROL INTERNO:
B25: A partir del desempeño histórico de la gestión de la dependencia, se recomienda formular metas que conlleven al fortalecimiento del proceso de gestión jurídica de la entidad, que sean de utilidad para la toma de decisiones y mejora de la gestión, verificables y con indicadores que permitan su medición y evaluación técnica.
B26: 9. FECHA: Enero 31 de 2019
B27: 10. INFORME PRESENTADO POR: Oficina de Control Interno. | G27: JOSE JORGE ROCA MARTÍNEZ - Jefe Oficina de Control Interno
G28: Formato en prueba de uso

Sheet TECNOLOGÍA
B2: EVALUACIÓN DE GESTIÓN POR DEPENDENCIAS
B3: OFICINA DE CONTROL INTERNO
B4: VIGENCIA 2018
B6: 1. ENTIDAD: | F6: 2. DEPENDENCIA A EVALUAR:
B7: Unidad de Servicios Penitenciarios y Carcelarios | F7: Oficina de Tecnología
B8: 3. PROCESOS
B9: Gestión de las Tecnologías de la Información
B11: 4. OBJETIVOS ESTRATÉGICOS RELACIONADOS CON LA DEPENDENCIA
B12: 1. Objetivo estratégico: Generar confianza y reconocimiento por parte de los diferentes grupos de interés para asegurar el posicionamiento de la Entidad 2. Objetivo estratégico: Consolidar la cultura de calidad dentro de la institución mediante la interiorización y apropiación del SIGI, con el fin de atender con efectividad las necesidades del cliente institucional
B14: 5. COMPROMISOS ASOCIADOS AL CUMPLIMIENTO DEL OBJETIVO INSTITUCIONAL | E14: 6. MEDICIÓN DE COMPROMISOS
E15: 6.1. INDICADOR | F15: 6.2. RESULTADO % | G15: 6.3. ANÁLISIS DE RESULTADO
B16: ESTRATEGIA | C16: ACCIONES PROGRAMADAS | D16: META 2017
B17: Robustecer los mecanismos de Transparencia Institucional y de lucha contra la corrupción | C17: Mesas de trabajo internas para determinar el estado actual de la infraestructura tecnológica para desarrollar el plan de transición del protocolo IPV4 a IPV6. | D17: Establecer la guía de transición e implementación del protocolo IPv4 a IPv6 (MSPI) | E17: Documento guía de implementación del protocolo IPV6 | F17: 0.9 | G17: Política de Gestión y Desempeño Institucional: Gobierno Digital Oficina de Tecnología: Primer Trimestre: Oficina de Tecnología: Avance 1° Trimestre 25.00%. Se realizaron reuniones internas para el avance del diagnóstico y de acuerdo a estas reuniones se genera un cronograma el cual especifica las actividades del proyecto. Oficina de Tecnología: Avance 2° Trimestre: 25,00%. Se tiene el inventario de los activos con que cuenta la Unidad para verificación y evaluación de compatibilidad en el proceso de planeación para la transición de IPv4 a IPv6. Oficina de Tecnología: Avance 3°Trimestre: 25,00%. Acumulado 75,00%. Se verificó la compatibilidad de los componentes del inventario de activos para continuar en el proceso de planeación para la transición de IPv4 a IPv6 Análisis de Control Interno No se cuenta con actas de las reuniones internas, revisando en la página no esta publicado como guía, se solicito los correos enviados a planeación para mirar la trazabilidad del diagnostico con la Guía de Transición de implementación del protocolo IPv4 a IPV6 pero solo enviaron los borradores de la Meta 1 y la Planeación del 4 Trimestre. Se cuenta con el documento guía enviado en soportes Plan de Acción, Se cuenta con el inventario de todos los activos informáticos Clientes delgados, equipos de escritorio, Aplicativos, Servidores, Además realizaron . Además se recomienda seguimiento de la meta planificada.
B18: Robustecer los mecanismos de Transparencia Institucional y de lucha contra la corrupción | C18: Mesas de trabajado para la actualización del plan estratégico de tecnologías de información | D18: Actualizar el plan estratégico de tecnologías de información alineado con el marco de referencia de arquitectura empresarial | E18: Plan Estratégico de tecnologías de información | F18: 0.8 | G18: Oficina de Tecnología: Avance 1° Trimestre 0.00%. Teniendo en cuenta la actualización solicitada al Plan de Acción, no se desarrollaron actividades durante el primer trimestre. Se tiene previsto dar inicio a estas actividades a partir del segundo trimestre. Oficina de Tecnología: Avance 2° Trimestre: 25,00%. En el periodo reportado la OTEC se encuentra consolidando la información asociada para la definición del As IS (o estado actual). Al respecto se destaca el hecho que la versión aprobada del PETI abarca las vigencias 2015 al 2016. Oficina de Tecnología: Avance 3° Trimestre: 15,00%. Acumulado 30,00%. Se continúa con la estructuración y consolidación del PETI, en lo relacionado con la definición del estado actual (As Is). Se tiene previsto adelantar mesas de trabajo con las áreas misionales de tal forma que se incluya una evaluación de su estado tecnológico actual. Es importante indicar que se está a la espera de las decisiones tecnológicas que establezca el Ministerio de Justicia. Análisis de Control Interno El resultado obtenido está relacionado con lo establecido en el Plan Estratégico de Tecnologías de la Información y Comunicaciones, (PETI), que se definió en la vigencia 2014, lo cual marcó la estrategia tecnológica de la entidad hasta la vigencia 2018. Aunado a lo anterior, el presente análisis busca el cumplimiento del PETI desde (2014 – 2018), donde se verifica la línea de tiempo que para el 2014, fue Aprobado, 2015 - 2016, no fue evaluado y para 2017 - 2018, se encuentra sin evaluar pero se esta ajustando, soportando el documento enviado en la carpeta soportes Plan de Acción. En las vigencias 2014-2015 y 2015-2016, no se contempló en el alcance y perspectiva lo relacionado con el Uso y Apropiación de la Tecnología, Sistemas de Información, Servicios Tecnológicos, Gestión de la Información, Gobierno de TI y un Análisis Financiero. ANÁLISIS SITUACIONAL PRODUCTO Documento de Análisis Situacional Estrategia de TI <<No se cumplió, 0%>> Uso y Apropiación de TI <<No se cumplió, 0%>> Sistemas de Información <<No se cumplió, 5%>> Servicios Tecnológicos <<No se cumplió, 5%>> Gestión de Información <<No se cumplió, 0%>> Gobierno de TI <<No se cumplió, 0%>> Análisis Financiero <No se cumplió, 0%>> AVANCE POR FASE 10% ANÁLISIS DEL MODELO OPERATIVO, DESARROLLO DE LA ESTRATEGIA TI, MODELO DE PLANEACIÓN, DIFUSIÓN = 0% Se recomienda, brindará asesoría y acompañamiento en lo relacionado con la parte técnica y operativa para que se logra el punto 9 Planteado en el documento PETI Iniciativas a ser consideradas en la formulación del PETI 2018 - 2022.
B19: Implementar los controles que aseguren la confiabilidad, integridad y disponibilidad de la información institucional | C19: Mesas de trabajo para la definición del plan de seguridad y privacidad de la información | D19: Definir el plan de seguridad y privacidad de la información | E19: Plan de seguridad y privacidad de información | F19: 0.85 | G19: Política de Gestión y Desempeño Institucional: Seguridad Digital Oficina de Tecnología: Avance 1° Trimestre 0.00% No se realizo el Plan de Seguridad en este Trimestre. Oficina de Tecnología: Avance 2° Trimestre: 30,00%. De acuerdo al cronograma establecido se definió la versión inicial del Plan de Seguridad y privacidad de Información. Oficina de Tecnología: Avance 3° Trimestre: 70,00%. Acumulado 100,00%. En agosto se solicitó aprobación del Plan de Seguridad de Información por parte del Comité Institucional de Gestión y Desempeño, aprobación según sesión virtual del mismo comité mediante Acta N. 1872 de Agosto 22. El Acta original encuentra en custodia en la Oficina Asesora de Planeación. Se adjunta el Plan de seguridad de información aprobado y el historial de correos del comité virtual. Al corte del 3 trimestre se cumplió con el 100% de la actividad. Adjuntan copia del Plan de Seguridad y Privacidad de la Información. Actividad cumplida en su totalidad. Análisis de Control Interno Para el primer trimestre no se programaron actividades para el cumplimiento de esta meta. No se evidencia cronograma. En la definición del Plan de Seguridad y privacidad de la información se cuenta con el documento adjuntado en la carpeta soportes Plan de Acción OTEC, además se adjunta correo con detalles del comité institucional de gestión del desempeños adjunta el acta 1872. Donde El día 21 de Agosto de 2018, siendo las 16:00 horas, el Ingeniero Gustavo Camelo, secretario del Comité Institucional de Gestión y Desempeño, cita a Sesión Virtual a los integrantes, con el fin de someter a aprobación el Plan de Seguridad y Privacidad de la Información, de la Oficina de Tecnología y la reformulación de algunas actividades del Plan de Acción 2018, de acuerdo a solicitudes enviadas por las Direcciones de Infraestructura y de Logística. Igualmente comparte el proyecto del citado Plan, con el fin de que se generen los comentarios y observaciones correspondientes antes de la sesión del Comité; dirigidos al Jefe de la Oficina de Tecnología. La guía no se encuentra aprobada y publicada en SIGI por lo tanto se considera que la elaboración de la Guía tiene un avance del 85%
B20: Implementar los controles que aseguren la confiabilidad, integridad y disponibilidad de la información institucional | C20: Gestionar la contratación del personal para la elaboración del plan de tratamiento de riesgos de seguridad de información de la entidad | D20: Definición del plan de tratamiento de riesgos de seguridad de información | E20: Estudios previos para contratar el personal que elaborará el plan de tratamiento de riesgos de seguridad de información | F20: 1 | G20: Oficina de Tecnología: Avance 1° Trimestre: 0.00%. Teniendo en cuenta la actualización solicitada al plan de acción, no se desarrollaron actividades durante el primer trimestre. Se tiene previsto dar inicio a estas actividades a partir del segundo trimestre. Oficina de Tecnología: Avance 2° Trimestre: 100,00%. La Oficina de Tecnología realizó la elaboración de los estudios previos para la contratación de la consultoría de implementación de Sistema de Gestión de Seguridad de la Información, mediante el cual se realizará el plan de tratamiento de riegos de seguridad de la información para la entidad. Estos fueron radicados en Dirección Contractual y fueron publicados en la plataforma SECOP II. Análisis de Control Interno Se envían memorandos 6116 Estudios previos Implementación tercera fase SGSI, y se envía memorando 7212 Estudios previos Tercera fase de SGSI. Se realiza el estudio de los documentos enviados donde realizan la contratación de la consultoría que les ayuda con el plan de tratamiento de riesgos y anexan la matriz en la carpeta de soportes Plan de Acción OTEC.
B23: PROMEDIO AVANCE METAS | F23: =AVERAGE(F17:F20) -> 0.8875
B24: Calificación de la Evaluación de la Dependencia | F24: =(F23/10)*100 -> 8.875
B25: 7. EVALUACIÓN DE LA OFICINA DE CONTROL INTERNO A LOS COMPROMISOS DE LA DEPENDENCIA: La Oficina de Control Interno realizó la evaluación de la Oficina de Tecnología teniendo en cuenta la aplicación y formulación de los indicadores de gestión y resultado diseñados por las áreas para la vigencia 2018. Se debe considerar que la OCI se podrá apartar de las calificaciones o resultados consolidados por la Oficina Asesora de Planeación en su seguimiento a los planes, programas y proyectos, como consecuencia de la verificación que realiza la OCI en los seguimientos a la gestión institucional. La oficina de tecnología definió para su plan estratégico 2018, compromisos asociados al cumplimiento de procesos de apoyo y objetivos institucionales. 1. Objetivo estratégico: Generar confianza y reconocimiento por parte de los diferentes grupos de interés para asegurar el posicionamiento de la Entidad: Meta 1: Establecer la guía de transición e implementación del protocolo IPv4 a IPv6 (MSPI): "Verificar actas de las reuniones y cronograma que se estableció para el proyecto" Publicación en SGSI los responsables del proceso, Documentos soporte de inventario de activos Meta 2: Iniciar la Implementación un esquema de arquitectura empresarial para la USPEC (Arquitecto empresarial): No se desarrollaron actividades durante el primer trimestre, Mostrar estado anterior y avances realizados. 2. Objetivo estratégico: Consolidar la cultura de calidad dentro de la institución mediante la interiorización y apropiación del SIGI, con el fin de atender con efectividad las necesidades del cliente institucional Meta 1: Desarrollar el cronograma del proceso de implementación del SGSI: No se realizó el plan de seguridad en este trimestre, Verificar cronograma para los tiempos y medidas determinadas, No está bien diligenciada la planeación de acuerdo a los porcentajes en el 4 trimestre se hubieran presentado de tal forma que se igualen los porcentajes cumpliendo con la totalidad de la implementación en el Plan estratégico. Meta 2: Definición del plan de tratamiento de riesgos de seguridad de información: Soportes de los estudios previos y número de radicado en dirección contractual, No está bien diligenciada la planeación de acuerdo a los porcentajes. Cabe descartar que las metas establecidas por la oficina de tecnología para su plan estratégico 2018, En cuanto a las actividades se desarrollaron algunas tales como pero se reitera que no se da cumplimiento dentro del periodo programado si embargo el acumulado de la vigencia 2018 se llega al porcentaje. 100% Guía IPV4 a IPV6, 30% PETI, 100% Seguridad y Privacidad de la Información, 100% Plan de Tratamiento de Riesgos de la Seguridad de la información
B26: La Oficina de Control Interno realiza la evaluación de dependencias en atención a lo dispuesto en el Artículo 39 de la Ley 909 de 2004, el Decreto 1227 de abril 21 de 2005 y la Circular 04 de septiembre 27 de 2005 del Consejo Asesor del Gobierno Nacional en Materia de Control Interno. Así mismo, corresponde a lo establecido por la Comisión Nacional del Servicios Civil en su Acuerdo 565 de 2016 mediante el cual se establece que “Dar a conocer a los responsables de la Evaluación del Desempeño, el resultado de la Evaluación de Gestión por Áreas o Dependencias (…) (Artículo 8°, Numeral 4). Para la Evaluación de Dependencias se adoptó como referente: a) La planeación institucional enmarcada en la visión, misión y objetivos del organismo; definida en la USPEC en el Plan de Acción Anual. b) Los objetivos institucionales por dependencia y sus compromisos relacionados; c) Los resultados de la ejecución por dependencias, de acuerdo con lo programado en la planeación institucional, contenidos en los informes de seguimiento de las Oficinas de Planeación. Para la puntuación del resultado de la evaluación por dependencias del que hace mención el Acuerdo 565 de 2016 de la CNSC (Artículo 17, Numeral 3) se estableció un sistema de calificación que homologa el avance porcentual en el cumplimiento de los compromisos definidos en la planeación institucional en puntos de 1 a 10, dividiendo por 10.
B27: 8. RECOMENDACIONES DE MEJORAMIENTO DE LA OFICINA DE CONTROL INTERNO:
B28: 1. Verificar que se cuenten con las actas de reuniones internas para dar seguimientos al cronograma estructurado para las acciones de la oficina de Tecnología. 2. Desarrollar las actividades en los trimestres programados. 3. Mantener documentación y radicados de todos los estudiaos generados por el área de Tecnología. 4. Comprometer a todos los funcionarios del área en cuanto al desarrollo y avances del Plan estratégico de tecnologías de información, pues bien se ha trabajado aun no superan el 50 %. 5. Para que lo procedimientos tengan validez de los documentos, las guías utilizadas por los funcionarios de la entidad deben de estar aprobados y publicados en SIGI. 6. Inlcuir en la planeación de la vigencia 2019, el desarrollo del sistema de gestión de seguridad de la información.
B29: 9. FECHA: 23/01/2019
B30: 10. INFORME PRESENTADO POR: Oficina de Control Interno. | G30: JOSE JORGE ROCA MARTINEZ - Jefe Oficina de Control Interno
G31: Formato en prueba de uso

Sheet DIRECCIÓN CONTRACTUAL
B2: EVALUACIÓN DE GESTIÓN POR DEPENDENCIAS
B3: OFICINA DE CONTROL INTERNO
B4: VIGENCIA 2018
B6: 1. ENTIDAD: | F6: 2. DEPENDENCIA A EVALUAR:
B7: UNIDAD DE SERVICIOS PENITENCIARIOS Y CARCELARIOS | F7: DIRECCIÓN DE GESTIÓN CONTRACTUAL
B8: 3. PROCESO
B9: GESTIÓN CONTRACTUAL
B10: 4. OBJETIVOS ESTRATÉGICOS RELACIONADOS CON LA DEPENDENCIA
B11: Proveer bienes y servicios para contribuir al mejoramiento de las condiciones de habitabilidad y bienestar de la población privada de la libertad
B12: Generar confianza y reconocimiento por parte de los diferentes grupos de interés para asegurar el posicionamiento de la Entidad
B13: Consolidar la cultura de calidad dentro de la institución mediante la interiorización y apropiación del SIGI, con el fin de atender con efectividad las necesidades del cliente institucional
B14: 5. COMPROMISOS ASOCIADOS AL CUMPLIMIENTO DEL OBJETIVO INSTITUCIONAL | E14: 6. MEDICIÓN DE COMPROMISOS
E15: 6.1. INDICADOR | F15: 6.2. RESULTADO % | G15: 6.3. ANÁLISIS DE RESULTADO
B16: ESTRATEGIA | C16: ACCIONES PROGRAMADAS | D16: META 2017
B17: Implementar los controles que aseguren la confiabilidad, integridad y disponibilidad de la información institucional | C17: Seguimiento mensual a los compromisos adquiridos por las áreas ejecutoras en materia contractual en el Plan de Adquisiciones | D17: Realizar seguimiento permanente al Plan de Adquisiciones | E17: N° de procesos en curso/ N° de procesos propuestos | F17: 0.7909 | G17: La entidad programó en el Plan Anual de Adquisiciones 287 contratos para la vigencia 2018, con un presupuesto de $395.084.199.928. Es de anotar que el PAA tuvo veintitrés (23) actualizaciones durante la vigencia, siendo la última el veintiuno (21) de diciembre de 2018. En el año 2018, se suscribieron 227 contratos y un convenio específico derivado que no cuenta con el consecutivo de la numeración, por lo que no se tendrá en cuenta en la evaluación. Para el porcentaje de cumplimiento de la meta, se tomara como referente los doscientos ochenta y siete (287) contratos programados en el Plan Anual de Adquisiciones frente a los doscientos veintisiete (227) contratos suscritos en la vigencia. Se precisa que la numeración de contratos fue de doscientos treinta y seis (236) contratos, siendo anulados nueve (9). En este orden, se evidenció que fueron programados 287 contratos para la vigencia 2018, de los cuales se contrataron 227, para un porcentaje de cumplimiento del 79.09%.
B18: Implementar los controles que aseguren la confiabilidad, integridad y disponibilidad de la información institucional | C18: Mantener actualizada la documentación del proceso de Gestión Contractual | D18: Actualizar y modificar diez (10) procedimientos y dos (2) manuales del proceso de Gestión Contractual | E18: No. de Procedimientos y manuales actualizados/ No. de documentos a actualizar | F18: 0.1 | G18: La Dirección de Gestión Contractual cuenta con dos (2) manuales y doce (12) procedimientos. De la revisión realizada al SIGI, se evidenció que en la vigencia 2018, se actualizó el Manual de Supervisión e Interventoría - Código: M3-MA-02 Versión: 03 Vigencia: 19/07/2018, el cual fue adoptado mediante Resolución 559 del 31 de Julio de 2018. El Manual de Contratación y los 12 procedimientos que regulan las distintas modalidades de selección no fueron actualizados y/o modificados, según evidencias así: Manual de Contratación - Código: M3-MA-01 - Versión: 03 Vigencia: 10/11/2014; Licitación Pública Código: M3-PR-01 Versión: 02 - Vigencia: 07/11/2014 Código: M3-PR-02 Versión: 02 - Vigencia: 07/11/2014; Selección Abreviada – Subasta Inversa - Código: M3-PR-03 Versión: 02 Vigencia: 07/11/2014; Contratación de Mínima Cuantía Código: M3-PR-04 - Versión: 01 Vigencia: 27/01/2015; Prestación de Servicios Profesionales y de Apoyo a la Gestión Código: M3-PR-05 Versión: 01 Vigencia: 27/01/2015; Concurso de Méritos Abierto Código: M3-PR-06 - Versión: 01 Vigencia: 03/03/2015; Contratación Directa excepto Prestación de Servicios Profesionales y de Apoyo a la Gestión Código: M3-PR-07 Versión: 01 Vigencia: 19/03/2015; Elaboración y Legalización de Contratos y Convenios Código: M3-PR-08 Versión: 01 Vigencia: 13/05/2015; Modificaciones Contractuales - Código: M3-PR-09 Versión: 01 Vigencia: 28/04/2015; Liquidación de Contratos, Convenios y Órdenes de Compra - Código: M3-PR-10 - Versión: 01 Vigencia: 31-08-2016; Numeración, Fechado y Publicación en el SECOP de documentos relacionados con los procesos de Selección, Contratos y sus modificatorios - Código: M3-PR-11 - Versión: 01 - Vigencia: 31-08-2016. Para el porcentaje de cumplimiento de la meta se tomaran los 12 documentos como el 100% del indicador y como ejecución la actualización y socialización del Manual de Supervisión, esto es, uno de los doce documentos propuestos.
B19: Implementar los controles que aseguren la confiabilidad, integridad y disponibilidad de la información institucional | C19: Liquidar contratos de la entidad | D19: Adelantar la liquidación de los contratos que se requieran dentro de la vigencia | E19: No. de actas de liquidación radicadas/Total de contratos a liquidar durante la vigencia | F19: 0.7128 | G19: La falta de precisión en la meta, indicador y resultado esperado, dificultan establecer un criterio claro de medición, por cuanto no es posible identificar un número de contratos a liquidar para la vigencia ( línea base), a partir del universo de contratos terminados y no liquidados. La Oficina de Control Interno verificó que en el año 2018, se liquidaron y publicaron en el SECOP, setenta y dos (72) contratos suscritos en las vigencias 2013, 2014, 2015, 2016, 2017 y 2018. Con relación a la base de datos de contratos de las vigencias 2012, 2013, 2014, 2015, 2016, 2017 y 2018, que registra el estado de contratos (vigentes, terminados, liquidados y sin liquidar) se evidenció un total de ciento un (101) contratos sin liquidar, así: 2012: 0; 2013:7; 2014:5; 2015: 34; 2016:14: 2017: 21 y 2018: 20, para un total de 101 contratos terminados y sin liquidar. En aras a establecer un porcentaje de cumplimiento de esta meta, la OCI toma como criterio de evaluación, los 101 contratos de las vigencias 2013 a 2018 terminados y sin liquidar frente a 72 liquidaciones realizadas en el año 2018. En consecuencia, la meta se cumplió en un 71.2%. Es de anotar que la Dirección de Gestión Contractual considera el cumplimiento de la meta en cien por ciento (100%), con base en las siguientes consideraciones: “Para el corte de 30 de junio se han radicado 85 actas de liquidación para revisión, de las cuales 53 han sido suscritas; Para el corte de 30 de septiembre se radicaron 42 actas de liquidación para revisión, de un total de 52 contratos a liquidar a dicho periodo. Para para la vigencia 2018, se presentan 29 contratos terminados sin liquidar en términos contractuales y que corresponden a igual número de actas de liquidación radicadas”.
B20: Implementar los controles que aseguren la confiabilidad, integridad y disponibilidad de la información institucional | C20: Controlar en tiempo establecido para cada modalidad desde la radicación de estudios previos hasta aprobación de la póliza | D20: Oportunidad en la adjudicación de los procesos contractuales | E20: N° de procesos radicados y con pólizas aprobadas que cumplan con los tiempos establecidos/Total de procesos radicados | F20: 0.5591 | G20: De acuerdo con la matriz de procesos de selección suministrada por la Dirección de Gestión Contractual, en la vigencia 2018 se radicaron 93 procesos, excluyendo los 124 de prestación de servicios profesionales para apoyar la gestión que no requieren pólizas de garantías. Del total de los noventa y tres (93) procesos radicados, se evidencia que fueron adjudicados y celebrados cincuenta y dos (52); veintiuno (21) procesos fueron cancelados y veinte (20), publicados. Tomando como criterio de evaluación la información reportada en la matriz de procesos, la meta se cumplió en un 55.9%.
B21: PROMEDIO AVANCE METAS | F21: =AVERAGE(F17:F20) -> 0.5407
B22: Calificación de la Evaluación de la Dependencia | F22: =(F21/10)*100 -> 5.407
B23: 7. EVALUACIÓN DE LA OFICINA DE CONTROL INTERNO A LOS COMPROMISOS DE LA DEPENDENCIA: Las metas propuestas por la Dirección de Gestión Contractual para la vigencia 2018, se cumplieron en un 53.65%, lo que indica un promedio bajo de respuesta a sus propósitos anuales, esto es, una gestión ineficaz e ineficiente de acuerdo con los indicadores formulados para las metas de la dependencia. Se presentaron dificultades en la evaluación, en razón a la indefinición de los indicadores, que no establecían criterios objetivos y/o numéricos y/o de gestión para su medición. El comparativo entre los indicadores institucionales y los resultados obtenidos en la vigencia 2018, arroja los siguientes resultados por meta, así: Meta 1 - Realizar seguimiento permanente al Plan de Adquisiciones (cumplimiento del 79.09%). De acuerdo con el indicador de eficacia establecido para esta meta en la matriz de indicadores 2018 (menor a 90% - rango bajo) se ubica en rango de gestión bajo, esto es, la gestión fue ineficaz. Meta 2: Actualizar y modificar diez (10) procedimientos y dos (2) manuales del proceso de Gestión Contractual (cumplimiento del 8.33%). De acuerdo con el indicador de eficiencia establecido para esta meta en la matriz de indicadores 2018, (menor a 80% - rango bajo) se ubica en rango de gestión bajo, es decir, la gestión fue ineficiente. Meta 3: Adelantar la liquidación de los contratos que se requieran dentro de la vigencia (cumplimiento del 71.28%). De acuerdo con el indicador de eficacia establecido para esta meta en la matriz de indicadores 2018 (menor a 80% - rango bajo) se ubica en rango de gestión bajo, esto es, la gestión fue ineficaz. Meta 4: Oportunidad en la adjudicación de los procesos contractuales (cumplimiento 55.91%). De acuerdo con el indicador de eficiencia establecido para esta meta en la matriz de indicadores 2018, (menor a 80% - rango bajo) se ubica en rango de gestión bajo, es decir, la gestión fue ineficiente.
B24: La Oficina de Control Interno realiza la evaluación de dependencias en atención a lo dispuesto en el Artículo 39 de la Ley 909 de 2004, el Decreto 1227 de abril 21 de 2005 y la Circular 04 de septiembre 27 de 2005 del Consejo Asesor del Gobierno Nacional en Materia de Control Interno. Así mismo, corresponde a lo establecido por la Comisión Nacional del Servicios Civil en su Acuerdo 565 de 2016 mediante el cual se establece que “Dar a conocer a los responsables de la Evaluación del Desempeño, el resultado de la Evaluación de Gestión por Áreas o Dependencias (…) (Artículo 8°, Numeral 4). Para la Evaluación de Dependencias se adoptó como referente: a) La planeación institucional enmarcada en la visión, misión y objetivos del organismo; definida en la USPEC en el Plan de Acción Anual. b) Los objetivos institucionales por dependencia y sus compromisos relacionados; c) Los resultados de la ejecución por dependencias, de acuerdo con lo programado en la planeación institucional, contenidos en los informes de seguimiento de las Oficinas de Planeación. Para la puntuación del resultado de la evaluación por dependencias del que hace mención el Acuerdo 565 de 2016 de la CNSC (Artículo 17, Numeral 3) se estableció un sistema de calificación que homologa el avance porcentual en el cumplimiento de los compromisos definidos en la planeación institucional en puntos de 1 a 10, dividiendo por 10.
